BEGIN:VCALENDAR
VERSION:2.0
PRODID:-//STARS - Student Therapy and Resource Services - ECPv6.15.20//NONSGML v1.0//EN
CALSCALE:GREGORIAN
METHOD:PUBLISH
X-ORIGINAL-URL:https://studenttherapy.com
X-WR-CALDESC:Events for STARS - Student Therapy and Resource Services
REFRESH-INTERVAL;VALUE=DURATION:PT1H
X-Robots-Tag:noindex
X-PUBLISHED-TTL:PT1H
BEGIN:VTIMEZONE
TZID:America/Phoenix
BEGIN:STANDARD
TZOFFSETFROM:-0700
TZOFFSETTO:-0700
TZNAME:MST
DTSTART:20230101T000000
END:STANDARD
END:VTIMEZONE
BEGIN:VEVENT
DTSTART;TZID=America/Phoenix:20241108T080000
DTEND;TZID=America/Phoenix:20241108T100000
DTSTAMP:20260421T040600
CREATED:20240913T173949Z
LAST-MODIFIED:20240913T173949Z
UID:15342-1731052800-1731060000@studenttherapy.com
SUMMARY:Mindfulness-Based Intervention - Webinar
DESCRIPTION:Did you know that approximately 90% of doctor visits are related to chronic stress? Whether it’s from work\, economic factors\, or lack of health literacy\, stress is a growing concern for quality of life and health. In addition to traditional practice\, mindfulness can be an efficient and low-cost technique to directly reduce the effects of stressors\, especially for those managing and/or rehabilitating their health. \nIn this course\, you will learn what mindfulness is\, how to identify when appropriate to implement\, precautions\, and howto facilitate safety during skilled interventions. Based on evidence-based practice\, mindfulness\, in addition to traditional interventions\, was shown to reduce overall pain and improve functional outcomes and overall quality of life.You will be provided specific scripts and examples of how to safely apply mindfulness into your practice immediately. \nHighlights\n\nStrategies that show significant improvements in your clients’ active engagement and functional outcomes using specific mindfulness techniques during interventions\nPractical meditation and mindfulness scripts you can use with your clients to achieve their best results
URL:https://studenttherapy.com/continuing-education/mindfulness-based-intervention-webinar/
END:VEVENT
END:VCALENDAR