BEGIN:VCALENDAR
VERSION:2.0
PRODID:-//STARS - Student Therapy and Resource Services - ECPv6.15.20//NONSGML v1.0//EN
CALSCALE:GREGORIAN
METHOD:PUBLISH
X-ORIGINAL-URL:https://studenttherapy.com
X-WR-CALDESC:Events for STARS - Student Therapy and Resource Services
REFRESH-INTERVAL;VALUE=DURATION:PT1H
X-Robots-Tag:noindex
X-PUBLISHED-TTL:PT1H
BEGIN:VTIMEZONE
TZID:America/Phoenix
BEGIN:STANDARD
TZOFFSETFROM:-0700
TZOFFSETTO:-0700
TZNAME:MST
DTSTART:20230101T000000
END:STANDARD
END:VTIMEZONE
BEGIN:VTIMEZONE
TZID:America/Denver
BEGIN:DAYLIGHT
TZOFFSETFROM:-0700
TZOFFSETTO:-0600
TZNAME:MDT
DTSTART:20230312T090000
END:DAYLIGHT
BEGIN:STANDARD
TZOFFSETFROM:-0600
TZOFFSETTO:-0700
TZNAME:MST
DTSTART:20231105T080000
END:STANDARD
BEGIN:DAYLIGHT
TZOFFSETFROM:-0700
TZOFFSETTO:-0600
TZNAME:MDT
DTSTART:20240310T090000
END:DAYLIGHT
BEGIN:STANDARD
TZOFFSETFROM:-0600
TZOFFSETTO:-0700
TZNAME:MST
DTSTART:20241103T080000
END:STANDARD
BEGIN:DAYLIGHT
TZOFFSETFROM:-0700
TZOFFSETTO:-0600
TZNAME:MDT
DTSTART:20250309T090000
END:DAYLIGHT
BEGIN:STANDARD
TZOFFSETFROM:-0600
TZOFFSETTO:-0700
TZNAME:MST
DTSTART:20251102T080000
END:STANDARD
END:VTIMEZONE
BEGIN:VEVENT
DTSTART;TZID=America/Phoenix:20241106T150000
DTEND;TZID=America/Phoenix:20241106T170000
DTSTAMP:20260421T040454
CREATED:20240913T173505Z
LAST-MODIFIED:20240913T174247Z
UID:15340-1730905200-1730912400@studenttherapy.com
SUMMARY:Creating Visual Supports for Children with Autism - Webinar
DESCRIPTION:This 2-hour dynamic course will take you on the autism journey to help you understand the importance of visual supports and early intervention for this growing population. Not only is “making visual” essential\, it can also help to improve classroom success and daily living skills. It is time to think outside the box and get creative in your home\, classroom\, and therapy settings. Participants will be provided practical visual supports and strategies to use in the home\, natural setting\, therapy setting or school. The course will provide participants with low budget resources they can implement tomorrow as well as a greater appreciation of the child with autism. \nHighlights\n\nIdeas and strategies that help children with autism spectrum disorders through sensory integration\, communication\, behavior\, daily living\, social skills\, and education\nDevelop visual supports\, schedules\, and social stories that can benefit young children with autism\nSelect practical visual supports that can be used to help engage the young child with autism
URL:https://studenttherapy.com/continuing-education/creating-visual-supports-for-children-with-autism-webinar-2/
END:VEVENT
BEGIN:VEVENT
DTSTART;TZID=America/Phoenix:20241106T150000
DTEND;TZID=America/Phoenix:20241106T170000
DTSTAMP:20260421T040454
CREATED:20241029T225133Z
LAST-MODIFIED:20241029T225133Z
UID:15462-1730905200-1730912400@studenttherapy.com
SUMMARY:Creating Visual Supports for Children with Autism - Webinar
DESCRIPTION:This 2-hour dynamic course will take you on the autism journey to help you understand the importance of visual supports and early intervention for this growing population. Not only is “making visual” essential\, it can also help to improve classroom success and daily living skills. It is time to think outside the box and get creative in your home\, classroom\, and therapy settings. Participants will be provided practical visual supports and strategies to use in the home\, natural setting\, therapy setting or school. The course will provide participants with low budget resources they can implement tomorrow as well as a greater appreciation of the child with autism. \nHighlights\n\nIdeas and strategies that help children with autism spectrum disorders through sensory integration\, communication\, behavior\, daily living\, social skills\, and education\nDevelop visual supports\, schedules\, and social stories that can benefit young children with autism\nSelect practical visual supports that can be used to help engage the young child with autism
URL:https://studenttherapy.com/continuing-education/creating-visual-supports-for-children-with-autism-webinar-3/
END:VEVENT
BEGIN:VEVENT
DTSTART;TZID=America/Denver:20241106T180000
DTEND;TZID=America/Denver:20241106T200000
DTSTAMP:20260421T040454
CREATED:20241025T161749Z
LAST-MODIFIED:20241025T162811Z
UID:15447-1730916000-1730923200@studenttherapy.com
SUMMARY:#7329 Assessment and Intervention for Tethered Oral Tissues (TOTs) in Feeding Therapy - Live Webinar
DESCRIPTION:Tethered Oral Tissues (TOTs) are the frenulum attachments within the mouth\, there are typically 7 locations\, and the restrictions that can be observed can impact growth and development\, feeding\, and speech. This course provides participations with functional and structural assessment of TOTs with specific focus on intervention and treatment related to feeding deficits. The course will cover topics including foundational anatomy and physiology and provide case studies and education for assessment and intervention to increase food acceptance and oral motor sensory skills related to feeding. The importance and dynamic of a professional team and related scopes of practice will also be discussed. \n  \nInstructor: Samantha Heidenreich\, OTD\, OTR/L\, OMT
URL:https://studenttherapy.com/continuing-education/7329-assessment-and-intervention-for-tethered-oral-tissues-tots-in-feeding-therapy-live-webinar-3/
END:VEVENT
END:VCALENDAR