BEGIN:VCALENDAR
VERSION:2.0
PRODID:-//STARS - Student Therapy and Resource Services - ECPv6.15.20//NONSGML v1.0//EN
CALSCALE:GREGORIAN
METHOD:PUBLISH
X-ORIGINAL-URL:https://studenttherapy.com
X-WR-CALDESC:Events for STARS - Student Therapy and Resource Services
REFRESH-INTERVAL;VALUE=DURATION:PT1H
X-Robots-Tag:noindex
X-PUBLISHED-TTL:PT1H
BEGIN:VTIMEZONE
TZID:America/Phoenix
BEGIN:STANDARD
TZOFFSETFROM:-0700
TZOFFSETTO:-0700
TZNAME:MST
DTSTART:20230101T000000
END:STANDARD
END:VTIMEZONE
BEGIN:VEVENT
DTSTART;TZID=America/Phoenix:20240923T160000
DTEND;TZID=America/Phoenix:20240923T180000
DTSTAMP:20260421T040502
CREATED:20240830T190144Z
LAST-MODIFIED:20240830T190144Z
UID:15286-1727107200-1727114400@studenttherapy.com
SUMMARY:Treatment for Weightlifting Injuries of the Shoulder - Webinar
DESCRIPTION:Weight training is an activity that individuals of all ages engage in to improve health\, increase their ability to perform their ADLs\, and improve athletic performance. The shoulder is one of the most injured areas when individuals engage in this activity. This course will specifically cover the different types of weight training activities and lifts within these activities that may cause shoulder injuries. It will improve the participant’s understanding of how specific types of weight training increase the possibility of shoulder injury. It will also cover common clinical patterns/presentations in the evaluation process and how to effectively manage these individuals in the clinical setting using manual therapy/hands-on techniques and therapeutic exercises along with modifications for different types of exercises. \nHighlights\n\nFrom fitness to CrossFit\, find the most effective shoulder treatments that are unique to weightlifting injuries\nIntegrate learning into your PT/OT/ATC practice using real-world case examples of weightlifting-related shoulder injuries and strategies to reduce pain
URL:https://studenttherapy.com/continuing-education/treatment-for-weightlifting-injuries-of-the-shoulder-webinar/
END:VEVENT
END:VCALENDAR