BEGIN:VCALENDAR
VERSION:2.0
PRODID:-//STARS - Student Therapy and Resource Services - ECPv6.15.20//NONSGML v1.0//EN
CALSCALE:GREGORIAN
METHOD:PUBLISH
X-WR-CALNAME:STARS - Student Therapy and Resource Services
X-ORIGINAL-URL:https://studenttherapy.com
X-WR-CALDESC:Events for STARS - Student Therapy and Resource Services
REFRESH-INTERVAL;VALUE=DURATION:PT1H
X-Robots-Tag:noindex
X-PUBLISHED-TTL:PT1H
BEGIN:VTIMEZONE
TZID:America/Phoenix
BEGIN:STANDARD
TZOFFSETFROM:-0700
TZOFFSETTO:-0700
TZNAME:MST
DTSTART:20230101T000000
END:STANDARD
END:VTIMEZONE
BEGIN:VEVENT
DTSTART;TZID=America/Phoenix:20240907T080000
DTEND;TZID=America/Phoenix:20240907T100000
DTSTAMP:20260421T040344
CREATED:20240604T171415Z
LAST-MODIFIED:20240604T171415Z
UID:14966-1725696000-1725703200@studenttherapy.com
SUMMARY:Strength Training and the Pediatric Athlete - Webinar
DESCRIPTION:Effective rehabilitation in the pediatric athlete population has several considerations that need to be understood to provide evidence-based care. In addition\, strength training with the pediatric population has been widely underutilized in the rehabilitation setting. This course will provide participants with the skills and knowledge to immediately apply exercise dosing principles to their pediatric patient population. Participants will also be provided with evidence-based information on busting common myths regarding strength training\, the benefits of participating\, and the harm of not participating in strength training as a pediatric patient. Clinicians treating the pediatric population have an excellent opportunity to expose these patients to foundational skills needed to rehabilitate from injury\, prevent future injury\, and set them up with tools for a more active future. \nThe content of this program is germane to children\, students and clients ages 6- 18. \nHighlights\n\nImprove your rehab skills with a focus on strength training to treat your pediatric athletes more effectively\nPractical application and treatment strategies for the pediatric athlete\nEffective\, evidence-based interventions that will immediately provide positive outcomes when treating the pediatric athlete
URL:https://studenttherapy.com/continuing-education/strength-training-and-the-pediatric-athlete-webinar/
END:VEVENT
END:VCALENDAR