BEGIN:VCALENDAR
VERSION:2.0
PRODID:-//STARS - Student Therapy and Resource Services - ECPv6.15.20//NONSGML v1.0//EN
CALSCALE:GREGORIAN
METHOD:PUBLISH
X-ORIGINAL-URL:https://studenttherapy.com
X-WR-CALDESC:Events for STARS - Student Therapy and Resource Services
REFRESH-INTERVAL;VALUE=DURATION:PT1H
X-Robots-Tag:noindex
X-PUBLISHED-TTL:PT1H
BEGIN:VTIMEZONE
TZID:America/Phoenix
BEGIN:STANDARD
TZOFFSETFROM:-0700
TZOFFSETTO:-0700
TZNAME:MST
DTSTART:20230101T000000
END:STANDARD
END:VTIMEZONE
BEGIN:VEVENT
DTSTART;TZID=America/Phoenix:20240828T050000
DTEND;TZID=America/Phoenix:20240828T130000
DTSTAMP:20260421T040601
CREATED:20240604T183503Z
LAST-MODIFIED:20240604T183503Z
UID:14995-1724821200-1724850000@studenttherapy.com
SUMMARY:Big Behaviors in small containers: 50 Trauma-informed Play Therapy Interventions for Disorders of Dysregulation - Webinar
DESCRIPTION:Do parents come to you labeling their children as Manipulative\, Out-of-Control\, Disobedient\, or Shut Down? \nBelieve it or not\, you don’t need superhero powers to see the vulnerable\, dysregulated child within. \nThis workshop will offer practical\, fun\, and immediately useful play therapy interventions for engaging the family in treatment planning and goal setting\, augmenting adaptive coping\, enhancing the healthy attachment between parent and child\, help shift paradigms around problematic child behaviors and powerfully explain the stress response system. \nInterventions for helping clients practice anger management\, expand their emotional literacy\, practice pro-social skills with family and friends\, address their problematic thought life\, and increase coherence in their narratives around hard things that have happened.
URL:https://studenttherapy.com/continuing-education/big-behaviors-in-small-containers-50-trauma-informed-play-therapy-interventions-for-disorders-of-dysregulation-webinar/
END:VEVENT
END:VCALENDAR