BEGIN:VCALENDAR
VERSION:2.0
PRODID:-//STARS - Student Therapy and Resource Services - ECPv6.15.20//NONSGML v1.0//EN
CALSCALE:GREGORIAN
METHOD:PUBLISH
X-WR-CALNAME:STARS - Student Therapy and Resource Services
X-ORIGINAL-URL:https://studenttherapy.com
X-WR-CALDESC:Events for STARS - Student Therapy and Resource Services
REFRESH-INTERVAL;VALUE=DURATION:PT1H
X-Robots-Tag:noindex
X-PUBLISHED-TTL:PT1H
BEGIN:VTIMEZONE
TZID:America/Phoenix
BEGIN:STANDARD
TZOFFSETFROM:-0700
TZOFFSETTO:-0700
TZNAME:MST
DTSTART:20220101T000000
END:STANDARD
END:VTIMEZONE
BEGIN:VEVENT
DTSTART;TZID=America/Phoenix:20230724T070000
DTEND;TZID=America/Phoenix:20230725T150000
DTSTAMP:20260419T060053
CREATED:20230707T224253Z
LAST-MODIFIED:20230707T224253Z
UID:13284-1690182000-1690297200@studenttherapy.com
SUMMARY:2-Day Workshop: EMDR Therapy for Child and Adolescent Trauma: Safely Process Traumatic Events\, Restore Trust and Rebuild Healthy Attachment - Live Webinar
DESCRIPTION:Treating traumatized kids can be overwhelming. Their intense emotions\, challenging behaviors\, and pain are compounded by a lack of trust in others…even those they want most to be loved by. \nBut with EMDR therapy\, you can provide the sense of safety and security they need to heal. \nThat’s why highly respected EMDR therapist\, trainer\, and author Megan Boardman developed her comprehensive training program. Over 2 days\, you’ll broaden your EMDR skills so you can help children safely process and integrate traumatic events\, reduce their most distressing symptoms\, and build their sense of self and trust in others. \nMegan has successfully taught thousands of therapists how to get the most from EMDR therapy. Now with this accessible in-depth training full of step-by-step guidance and real-life case studies\, she’ll give you the tools and strategies you need to: \n\nIdentify even hard-to-find symptoms of trauma in children and adolescents.\nAdapt the 8-phase EMDR therapy protocol for improved outcomes.\nGuide clients past the fear\, shame\, and guilt that can obstruct healing.\nEngage easily triggered kids who struggle to get through sessions.\nBuild children’s ability to express and regulate their emotions.\nCustomize your approach to meet your client’s developmental needs.\nTreat a variety of traumas\, including physical abuse\, sexual abuse\, and neglect.\nEnhance clients’ self-esteem and understanding of themselves and their experiences.\nAnd much more!\n\nDon’t miss this chance to feel more prepared to walk alongside young clients so they can thrive on their journey toward a brighter future. \nRegister now!
URL:https://studenttherapy.com/continuing-education/2-day-workshop-emdr-therapy-for-child-and-adolescent-trauma-safely-process-traumatic-events-restore-trust-and-rebuild-healthy-attachment-live-webinar/
END:VEVENT
END:VCALENDAR