BEGIN:VCALENDAR
VERSION:2.0
PRODID:-//STARS - Student Therapy and Resource Services - ECPv6.15.20//NONSGML v1.0//EN
CALSCALE:GREGORIAN
METHOD:PUBLISH
X-WR-CALNAME:STARS - Student Therapy and Resource Services
X-ORIGINAL-URL:https://studenttherapy.com
X-WR-CALDESC:Events for STARS - Student Therapy and Resource Services
REFRESH-INTERVAL;VALUE=DURATION:PT1H
X-Robots-Tag:noindex
X-PUBLISHED-TTL:PT1H
BEGIN:VTIMEZONE
TZID:America/Denver
BEGIN:DAYLIGHT
TZOFFSETFROM:-0700
TZOFFSETTO:-0600
TZNAME:MDT
DTSTART:20220313T090000
END:DAYLIGHT
BEGIN:STANDARD
TZOFFSETFROM:-0600
TZOFFSETTO:-0700
TZNAME:MST
DTSTART:20221106T080000
END:STANDARD
BEGIN:DAYLIGHT
TZOFFSETFROM:-0700
TZOFFSETTO:-0600
TZNAME:MDT
DTSTART:20230312T090000
END:DAYLIGHT
BEGIN:STANDARD
TZOFFSETFROM:-0600
TZOFFSETTO:-0700
TZNAME:MST
DTSTART:20231105T080000
END:STANDARD
BEGIN:DAYLIGHT
TZOFFSETFROM:-0700
TZOFFSETTO:-0600
TZNAME:MDT
DTSTART:20240310T090000
END:DAYLIGHT
BEGIN:STANDARD
TZOFFSETFROM:-0600
TZOFFSETTO:-0700
TZNAME:MST
DTSTART:20241103T080000
END:STANDARD
END:VTIMEZONE
BEGIN:VEVENT
DTSTART;TZID=America/Denver:20230601T080000
DTEND;TZID=America/Denver:20230601T170000
DTSTAMP:20260419T072539
CREATED:20230601T183547Z
LAST-MODIFIED:20230601T183622Z
UID:13167-1685606400-1685638800@studenttherapy.com
SUMMARY:Progressions and Regressions in Exercise Prescriptions - Webinar
DESCRIPTION:A fundamental skill in the clinical setting is the ability to prescribe the appropriate dosage and type of exercise interventions. The rehabilitation specialist must have a comprehensive understanding of the scientific principles behind human muscular response to exercise. In addition to this knowledge\, there is also the need to understand how to progress or regress exercise based on the patient physical responses. This course will cover the scientific principles of therapeutic exercise prescription and how it is applied in the clinical setting. It will help clinicians understand the physiological adaptive processes to therapeutic exercise and how to manipulate these variables to optimize the patient outcomes from rehabilitation. \nHighlights\n\nImmediately improve your understanding of the reasoning behind exercise progressions based on the clinical presentation of the patient\nEffective exercise progressions to tailor your exercise prescription to the patient level of function
URL:https://studenttherapy.com/continuing-education/progressions-and-regressions-in-exercise-prescriptions-webinar/
END:VEVENT
END:VCALENDAR