BEGIN:VCALENDAR
VERSION:2.0
PRODID:-//STARS - Student Therapy and Resource Services - ECPv6.15.20//NONSGML v1.0//EN
CALSCALE:GREGORIAN
METHOD:PUBLISH
X-WR-CALNAME:STARS - Student Therapy and Resource Services
X-ORIGINAL-URL:https://studenttherapy.com
X-WR-CALDESC:Events for STARS - Student Therapy and Resource Services
REFRESH-INTERVAL;VALUE=DURATION:PT1H
X-Robots-Tag:noindex
X-PUBLISHED-TTL:PT1H
BEGIN:VTIMEZONE
TZID:America/Phoenix
BEGIN:STANDARD
TZOFFSETFROM:-0700
TZOFFSETTO:-0700
TZNAME:MST
DTSTART:20220101T000000
END:STANDARD
END:VTIMEZONE
BEGIN:VEVENT
DTSTART;TZID=America/Phoenix:20230523T090000
DTEND;TZID=America/Phoenix:20230523T110000
DTSTAMP:20260419T090153
CREATED:20230516T164836Z
LAST-MODIFIED:20230516T164836Z
UID:12975-1684832400-1684839600@studenttherapy.com
SUMMARY:Occupational Therapy Management Of Ehlers-Danlos Syndrome And Hypermobility Spectrum Disorders\, Part 1 - Live Webinar
DESCRIPTION:Learning Outcomes\n\nAfter this course\, participants will be able to identify EDS sub-types\, diagnostic criteria\, and sequela.\nAfter this course\, participants will be able to apply the EDS clinical presentation and evidence-based examination techniques.\nAfter this course\, participants will be able to analyze evidence-based occupational therapy and inter-professional strategies for EDS for manual therapy\, therapeutic exercise\, fitness\, and sports activities and discuss different biometric technologies to monitor patients with EDS.\n\n\nAgenda\n\n\n\n\n0-15 Minutes\nBackground\, review of learning outcomes\n\n\n15-30 Minutes\nEDS definition\, sub-types\, diagnostic criteria\, and sequela\n\n\n30-45 Minutes\nEDS clinical presentation and examination\n\n\n45-55 Minutes\nEDS patient-related outcomes and special testing\n\n\n55-65 Minutes\nDifferential diagnosis: EDS vs. HSD vs. other connective tissue/MSK disorders\n\n\n65-80 Minutes\nEDS occupational therapy/inter-professional management: Manual therapy\n\n\n80-105 Minutes\nEDS occupational therapy/inter-professional management: therapeutic exercise interventions\n\n\n105-110 Minutes\nEDS: Anaerobic/aerobic fitness and sports participation\n\n\n110-115 Minutes\nEDS patient biometric tracking with technology\n\n\n115-120 Minutes\nSummary\, Q & A\n\n\n\n\n\n\n\nPresented By\n\n\n\n\nScott Cheatham\nPhD\, DPT\, OCS\, ATC\, CSCS\n\nDr. Scott Cheatham is a Professor in the Division of Kinesiology at California State University Dominguez Hills in Carson\, California. He is owner of Sports Medicine Alliance (SMA). Dr. Cheatham received his Doctor of Physical Therapy (DPT) and his Doctor of Philosophy (PhD) in Physical Therapy. Dr. Cheatham is a Board Certified Orthopedic Physical Therapist (OCS) and a Certified Athletic Trainer (ATC). He also holds several fitness certifications and is a certified ergonomic specialist. \nDr. Cheatham is a national presenter for various organizations and has authored over 120 peer-reviewed publications\, textbook chapters\, and several home study courses on the topics of orthopedics\, health & fitness\, and sports medicine. \nDr. Cheatham is an education and research consultant for various health and fitness organizations. His research interests include myofascial interventions and the efficacy of interventions for various musculoskeletal pathologies. His current clinical practice includes sports medicine services\, general orthopedics\, and sports-performance training. \n  \n\n\n\n\nMore\n\n\n\n\n\nPresenter Disclosure: Financial: Scott Cheatham received an honorarium for presenting this course. Non-financial: Scott Cheatham has no relevant non-financial relationships to disclose. \nSponsor Disclosure: This Course is presented by OccupationalTherapy.com\, a Continued site. \nContent Disclosure: This learning event does not focus exclusively on any specific product or service. \n\nCourse participation information\n\nTo ensure you are ready to participate\, please complete our short Test Drive to prepare your computer to view the course. \n View Course Help \nLogin and logout times will be recorded and documented. \nPassing an online exam and completing a course evaluation will be required to earn continuing education credit. \nLive Webinars allow presenter and participant interaction. The exam and course evaluation for these courses must be completed within 7 days of the event. \nOn-demand courses include texts\, video and audio recordings of live webinars\, and multimedia formats. The exam and course evaluation for on-demand courses must be completed within 30 days of course registration. \nTo participate in the course\, complete the exam and course evaluation\, and earn continuing education credit\, you must be a OccupationalTherapy.com member. Participants must complete the entire course; partial credit is not allowed. \nOccupationalTherapy.com is committed to ensuring accessibility to the widest possible audience. We are continually improving the user experience for everyone. If you have questions\, requests\, or would like to report an accessibility-related issue\, please email accessibility@continued.com. We will review your request and respond in a timely manner. \nVisit our Contact us page or give us a call if you have questions.
URL:https://studenttherapy.com/continuing-education/occupational-therapy-management-of-ehlers-danlos-syndrome-and-hypermobility-spectrum-disorders-part-1-live-webinar/
END:VEVENT
END:VCALENDAR