BEGIN:VCALENDAR
VERSION:2.0
PRODID:-//STARS - Student Therapy and Resource Services - ECPv6.15.20//NONSGML v1.0//EN
CALSCALE:GREGORIAN
METHOD:PUBLISH
X-ORIGINAL-URL:https://studenttherapy.com
X-WR-CALDESC:Events for STARS - Student Therapy and Resource Services
REFRESH-INTERVAL;VALUE=DURATION:PT1H
X-Robots-Tag:noindex
X-PUBLISHED-TTL:PT1H
BEGIN:VTIMEZONE
TZID:America/Phoenix
BEGIN:STANDARD
TZOFFSETFROM:-0700
TZOFFSETTO:-0700
TZNAME:MST
DTSTART:20220101T000000
END:STANDARD
END:VTIMEZONE
BEGIN:VEVENT
DTSTART;TZID=America/Phoenix:20230518T050000
DTEND;TZID=America/Phoenix:20230519T130000
DTSTAMP:20260419T090207
CREATED:20230331T204940Z
LAST-MODIFIED:20230331T204940Z
UID:11939-1684386000-1684501200@studenttherapy.com
SUMMARY:2-Day Certification Training: Treating Anxiety Disorders in Children & Adolescents - Live Webinar
DESCRIPTION:Divorce\, family breakdown\, violence in society and the media\, has produced a “shell shocked” generation of kids suffering from anxiety! \nJoin anxiety expert and author\, Dr. Steve O’Brien\, who will demonstrate how you can “connect” with anxious children and inspire them to practice new self-regulation skills. You will learn how to help parents (“bulldozers\,” “helicopters” and “snowplows”) and schools gain confidence\, gratification and success in helping their most anxious kids. \nTo increase your effectiveness with the various manifestations of child anxiety\, Dr. O’Brien will address each of the following disorders with case examples and clinical vignettes: \n\nSeparation Anxiety Disorder\nPanic Disorder\nGeneralized Anxiety Disorder\nObsessive-compulsive disorders (including skin picking and hair pulling)\nSocial Anxiety Disorder/Selective Mutism\nSpecific phobias\nTrauma- and Stressor-related disorders\n\nEmphasis will be on creative psychotherapy involving insight-oriented\, cognitive-behavioral\, biological\, mindfulness\, and family systems interventions. \nBest of all\, upon completion of this live training\, you’ll be eligible to become a Certified Clinical Child & Adolescent Anxiety Treatment Professional (CCATP-CA) through Evergreen Certifications. Certification lets colleagues\, employers\, and clients know that you’ve invested the extra time and effort necessary to understand the complexities of child and adolescent anxiety counseling. Professional standards apply. Visit www. evergreencertifications.com/CCATPCA for details. \n\nCERTIFICATION MADE SIMPLE! \n\nNo hidden fees – PESI pays for your application fee (a $99 value)*!\nSimply complete this live event and the post-event evaluation included in this training\, and your application to be a Certified Clinical Child & Adolescent Anxiety Treatment Professional (CCATP-CA) through Evergreen Certifications is complete.*\n\nAttendees will receive documentation of CCATP-CA certification from Evergreen Certifications 4 to 6 weeks following the program. \n*Professional standards apply. Visit www.evergreencertifications.com/CCATPCA for professional requirements.
URL:https://studenttherapy.com/continuing-education/2-day-certification-training-treating-anxiety-disorders-in-children-adolescents-live-webinar-6/
END:VEVENT
BEGIN:VEVENT
DTSTART;TZID=America/Phoenix:20230519T070000
DTEND;TZID=America/Phoenix:20230519T090000
DTSTAMP:20260419T090207
CREATED:20230516T170059Z
LAST-MODIFIED:20230516T170059Z
UID:12981-1684479600-1684486800@studenttherapy.com
SUMMARY:#7312-S Pediatric Feeding and Dysphagia: Where Do I Start - Live Webinar
DESCRIPTION:An estimated 15 million people in the US suffer from dysphagia\, or difficulty swallowing. Dysphagia is a multifactorial disorder with different issues and causes that need to be addressed specifically with each client and many different professions are involved in addressing these issues. In this 2-hour interdisciplinary orientation to dysphagia and it’s components\, you will learn three of the primary components of a feeding or swallowing disorder that need to be evaluated and treated and the common roles of the various disciplines involved.  You will learn about the continuum of sensitivity and how sensory issues are often mistaken for behavioral problems.  You will understand the relationship between gross motor skills and oral motor skills and common and not-so-common signs of dysphagia. Most importantly\, you’ll gain a framework for understanding dysphagia with its many symptoms and causes and your contribution in treating it. (Introductory Level) \n  \nInstructor: Jennifer Meyer\, M.A.CCC-SLP
URL:https://studenttherapy.com/continuing-education/7312-s-pediatric-feeding-and-dysphagia-where-do-i-start-live-webinar/
END:VEVENT
BEGIN:VEVENT
DTSTART;TZID=America/Phoenix:20230519T090000
DTEND;TZID=America/Phoenix:20230519T170000
DTSTAMP:20260419T090207
CREATED:20230224T200728Z
LAST-MODIFIED:20230224T200728Z
UID:11340-1684486800-1684515600@studenttherapy.com
SUMMARY:Social Media\, Reality TV & Influencer Culture: CBT\, EFT\, and More for Enhanced Treatment of Clients Impacted by Toxic Content - Live Webinar
DESCRIPTION:Creating lasting change in therapy is hard work – especially when your client is distracted\, disengaged\, or lacks the necessary skills to retain therapeutic interventions… \nIf you’re struggling to make progress with your young clients\, you’re not alone! Social media\, reality TV\, and influencer culture immersion have caused a critical thinking drought. And it’s making therapy harder. \nUnderstanding how social media and reality television impact your clients – decreased self-esteem\, increased anxiety\, depression\, suicidal ideation − is vital for the whole picture of mental health and has a direct impact on you as the professional. \nJoin Janine Oliver\, PhD\, LCSW\, clinician and researcher of reality tv and social media as she demonstrates the connection to critical thinking decline and shares ways to improve your efforts as a therapist to make your interventions more effective\, efficient\, and durable. You’ll get: \n\nStrategies to sustain lasting critical thinking skills\nConfidence grounded in new skills and research to navigate social media and reality tv\nProven strategies to enhance engagement and problem-solving to help your client come up with their own solutions\nExercises and assessment tools to build resilience and grit to enhance clients critical thinking\n\nRegister now and walk away confident and grounded in new skills and research to navigate social media\, virtual reality and external influences impacting people today!
URL:https://studenttherapy.com/continuing-education/social-media-reality-tv-influencer-culture-cbt-eft-and-more-for-enhanced-treatment-of-clients-impacted-by-toxic-content-live-webinar-4/
END:VEVENT
END:VCALENDAR