BEGIN:VCALENDAR
VERSION:2.0
PRODID:-//STARS - Student Therapy and Resource Services - ECPv6.15.20//NONSGML v1.0//EN
CALSCALE:GREGORIAN
METHOD:PUBLISH
X-ORIGINAL-URL:https://studenttherapy.com
X-WR-CALDESC:Events for STARS - Student Therapy and Resource Services
REFRESH-INTERVAL;VALUE=DURATION:PT1H
X-Robots-Tag:noindex
X-PUBLISHED-TTL:PT1H
BEGIN:VTIMEZONE
TZID:America/Phoenix
BEGIN:STANDARD
TZOFFSETFROM:-0700
TZOFFSETTO:-0700
TZNAME:MST
DTSTART:20220101T000000
END:STANDARD
END:VTIMEZONE
BEGIN:VEVENT
DTSTART;TZID=America/Phoenix:20230518T050000
DTEND;TZID=America/Phoenix:20230519T130000
DTSTAMP:20260419T090205
CREATED:20230331T204940Z
LAST-MODIFIED:20230331T204940Z
UID:11939-1684386000-1684501200@studenttherapy.com
SUMMARY:2-Day Certification Training: Treating Anxiety Disorders in Children & Adolescents - Live Webinar
DESCRIPTION:Divorce\, family breakdown\, violence in society and the media\, has produced a “shell shocked” generation of kids suffering from anxiety! \nJoin anxiety expert and author\, Dr. Steve O’Brien\, who will demonstrate how you can “connect” with anxious children and inspire them to practice new self-regulation skills. You will learn how to help parents (“bulldozers\,” “helicopters” and “snowplows”) and schools gain confidence\, gratification and success in helping their most anxious kids. \nTo increase your effectiveness with the various manifestations of child anxiety\, Dr. O’Brien will address each of the following disorders with case examples and clinical vignettes: \n\nSeparation Anxiety Disorder\nPanic Disorder\nGeneralized Anxiety Disorder\nObsessive-compulsive disorders (including skin picking and hair pulling)\nSocial Anxiety Disorder/Selective Mutism\nSpecific phobias\nTrauma- and Stressor-related disorders\n\nEmphasis will be on creative psychotherapy involving insight-oriented\, cognitive-behavioral\, biological\, mindfulness\, and family systems interventions. \nBest of all\, upon completion of this live training\, you’ll be eligible to become a Certified Clinical Child & Adolescent Anxiety Treatment Professional (CCATP-CA) through Evergreen Certifications. Certification lets colleagues\, employers\, and clients know that you’ve invested the extra time and effort necessary to understand the complexities of child and adolescent anxiety counseling. Professional standards apply. Visit www. evergreencertifications.com/CCATPCA for details. \n\nCERTIFICATION MADE SIMPLE! \n\nNo hidden fees – PESI pays for your application fee (a $99 value)*!\nSimply complete this live event and the post-event evaluation included in this training\, and your application to be a Certified Clinical Child & Adolescent Anxiety Treatment Professional (CCATP-CA) through Evergreen Certifications is complete.*\n\nAttendees will receive documentation of CCATP-CA certification from Evergreen Certifications 4 to 6 weeks following the program. \n*Professional standards apply. Visit www.evergreencertifications.com/CCATPCA for professional requirements.
URL:https://studenttherapy.com/continuing-education/2-day-certification-training-treating-anxiety-disorders-in-children-adolescents-live-webinar-6/
END:VEVENT
BEGIN:VEVENT
DTSTART;TZID=America/Phoenix:20230518T060000
DTEND;TZID=America/Phoenix:20230518T140000
DTSTAMP:20260419T090205
CREATED:20230331T205702Z
LAST-MODIFIED:20230331T205702Z
UID:11944-1684389600-1684418400@studenttherapy.com
SUMMARY:Changing the ADHD Brain: Moving Beyond Medication - Live Webinar
DESCRIPTION:Many persons diagnosed with ADHD prefer not to take medication. There are various reasons for this including side effects and concerns with long-term use. In this seminar\, you will learn more about these reasons\, as well as alternative interventions for ADHD. \nLooking at ADHD from a developmental perspective\, we will consider reasons for the apparent increase in ADHD diagnoses over the past two decades. By understanding the way the brain works in ADHD\, you will be able to better identify a variety of strategies to significantly impact the nervous system and positively influence symptoms of ADHD in your clients. \nNot only will you walk away with information about some of the most common non-medication interventions for ADHD such as computerized cognitive training\, mindfulness meditation\, and neurofeedback\, you will also learn a variety of practical strategies that can be implemented immediately and at low cost. \nWe will navigate the vast research on exercise\, movement\, diet\, sleep\, disruptive technologies\, supplements\, and the impact of the environment on ADHD\, summarizing the findings and applying the information to “real life”. You will leave this seminar with the tools and knowledge to develop a holistic approach to working with adults and children with ADHD.
URL:https://studenttherapy.com/continuing-education/changing-the-adhd-brain-moving-beyond-medication-live-webinar-16/
END:VEVENT
BEGIN:VEVENT
DTSTART;TZID=America/Phoenix:20230518T090000
DTEND;TZID=America/Phoenix:20230518T170000
DTSTAMP:20260419T090205
CREATED:20230224T212803Z
LAST-MODIFIED:20230224T212825Z
UID:11346-1684400400-1684429200@studenttherapy.com
SUMMARY:Boundaries in Clinical Practice: Top Ethical Challenges - Live Webinar
DESCRIPTION:Boundary issues present some of the largest challenges you’ll face as a clinician. How you communicate and interact can be interpreted differently by each client. Your professional liability is at risk by not following clear guidelines and best practices when it comes to boundaries. \nThis seminar will provide you with answers to the top challenges you face. You’ll get guidance on the following ethical boundary pitfalls: \n\nSocial Media\nEmail & Text\nSelf-Disclosure\nGifts & Receiving Gifts\nContact Outside of Session\nDual Relationships\nFinancial & Business Boundaries\n\nSign up today and avoid ethical entanglements that risk your professional liability!
URL:https://studenttherapy.com/continuing-education/boundaries-in-clinical-practice-top-ethical-challenges-live-webinar-2/
END:VEVENT
END:VCALENDAR