BEGIN:VCALENDAR
VERSION:2.0
PRODID:-//STARS - Student Therapy and Resource Services - ECPv6.15.20//NONSGML v1.0//EN
CALSCALE:GREGORIAN
METHOD:PUBLISH
X-WR-CALNAME:STARS - Student Therapy and Resource Services
X-ORIGINAL-URL:https://studenttherapy.com
X-WR-CALDESC:Events for STARS - Student Therapy and Resource Services
REFRESH-INTERVAL;VALUE=DURATION:PT1H
X-Robots-Tag:noindex
X-PUBLISHED-TTL:PT1H
BEGIN:VTIMEZONE
TZID:America/Phoenix
BEGIN:STANDARD
TZOFFSETFROM:-0700
TZOFFSETTO:-0700
TZNAME:MST
DTSTART:20220101T000000
END:STANDARD
END:VTIMEZONE
BEGIN:VEVENT
DTSTART;TZID=America/Phoenix:20230509T060000
DTEND;TZID=America/Phoenix:20230509T140000
DTSTAMP:20260419T090201
CREATED:20230224T223615Z
LAST-MODIFIED:20230224T223615Z
UID:11364-1683612000-1683640800@studenttherapy.com
SUMMARY:Mastering Differential Diagnosis with the DSM-5-TR™: A Symptom-Based Approach - Live Webinar
DESCRIPTION:A recent study found that more than a third of all diagnoses assigned to individuals with severe mental disorders include errors\, and over half of clients with major depressive disorders are incorrectly diagnosed. Such errors in diagnosis can greatly harm clients by preventing them from receiving proper treatment. Fortunately\, most of these errors are easily preventable in the first place\, and that’s where the DSM-5-TR and this webinar can help! \nUsing a differential diagnosis process with every client and applying the updated diagnostic criteria sets and specifiers for mental disorders in the DSM-5-TR\, the latest version of the DSM manual\, will improve the professionals’ accuracy in diagnosis and help prevent missed diagnoses. \nThis advanced seminar is designed specifically for mental health professionals seeking to master clinical differential diagnosis using the DSM-5-TR\, the ICD-10 and online assessment tools. Case examples and studies are provided throughout – giving you the opportunity to learn and practice a symptoms-based\, four-step diagnostic method. In this workshop you will also learn: \n\nKey symptoms for each diagnosis\nCommon differential diagnoses\nDSM-5-TR additions to the DSM-5\nFrequent comorbid disorders of anxiety\, depressive\, trauma-related\, substance-related\, psychotic\, and neurodevelopmental disorders\nHow to conduct an effective diagnostic intake interview\nOnline assessment tools to narrow diagnosis and potential comorbidities\n\nGet caught up with the latest diagnoses and codes in the new DSM-5-TR! \nDon’t forget to have your DSM-5-TR manual handy!
URL:https://studenttherapy.com/continuing-education/mastering-differential-diagnosis-with-the-dsm-5-tr-a-symptom-based-approach-live-webinar-2/
END:VEVENT
END:VCALENDAR