BEGIN:VCALENDAR
VERSION:2.0
PRODID:-//STARS - Student Therapy and Resource Services - ECPv6.15.20//NONSGML v1.0//EN
CALSCALE:GREGORIAN
METHOD:PUBLISH
X-WR-CALNAME:STARS - Student Therapy and Resource Services
X-ORIGINAL-URL:https://studenttherapy.com
X-WR-CALDESC:Events for STARS - Student Therapy and Resource Services
REFRESH-INTERVAL;VALUE=DURATION:PT1H
X-Robots-Tag:noindex
X-PUBLISHED-TTL:PT1H
BEGIN:VTIMEZONE
TZID:America/Phoenix
BEGIN:STANDARD
TZOFFSETFROM:-0700
TZOFFSETTO:-0700
TZNAME:MST
DTSTART:20220101T000000
END:STANDARD
END:VTIMEZONE
BEGIN:VEVENT
DTSTART;TZID=America/Phoenix:20230505T050000
DTEND;TZID=America/Phoenix:20230506T130000
DTSTAMP:20260419T090155
CREATED:20230421T204147Z
LAST-MODIFIED:20230421T204147Z
UID:12483-1683262800-1683378000@studenttherapy.com
SUMMARY:# 306 CAN-EAT Approach …Using medical\, motor\, & therapy strategies in pediatric feeding - Webinar
DESCRIPTION:Pediatric feeding and swallowing problems that effect infants and children may be complex and often involve a combination of factors including issues that can make eating painful or difficult. In order to successfully remediate feeding problems\, clinicians must understand how medical and nutritional issues can contribute to feeding disorders and use a comprehensive approach to intervention. The CAN-EAT Approach© is a 2-day workshop focusing on medical\, nutritional\, and therapeutic strategies for children with pediatric feeding disorders. \n  \nThis course will allow participants to describe how pediatric feeding disorders are defined in the literature\, what the contributing factors include\, and how this relates to clinical practice. Identify primary gastrointestinal issues (gastroesophageal reflux\, constipation\, motility disorders\, eosinophilic esophagitis\, and visceral hyperalgesia) during a feeding evaluation and explain how these issues affect a child’s feeding skill development and ability to progress. Participants will analyze a child’s oral motor function and apply the knowledge in treatment making recommendations for appropriate diet\, utensil use\, and development of a therapy plan for skill development. Identify signs and symptoms of pharyngeal dysphagia or risk for pharyngeal dysphagia in a child and make appropriate recommendations for further assessment or treatment. Analyze moderate and complex pediatric feeding cases identifying barriers to feeding progression and apply principles to prioritize treatment strategies and write appropriate goals. Describe and apply examples of therapeutic techniques to reduce gagging\, improve liquid and food acceptance\, improve chewing skill\, and wean from a feeding tube. \n  \nIn the CAN-EAT Approach© “CAN” stands for comfort and nutrition which come first. Day one will focus on strategies to build GI comfort and good growth as well as explore other medical issues that interfere with feeding progression. Day two will focus on therapeutic strategies from a variety of philosophies. “EA” represents establishing acceptance of the spoon\, easy textures or mealtime routine. Then “T” stands for therapy for skill development and feeding progression. Therapeutic strategies for common feeding problems will be explored in depth through lecture and video demonstration. \n  \nInformation is applicable to infants and children from birth to 21 (class will discuss infants but is not focused on infant feeding issues) \n  \nInstructor: KRISTEN BRACKETT\, MS\, SLP/CCC
URL:https://studenttherapy.com/continuing-education/306-can-eat-approach-using-medical-motor-therapy-strategies-in-pediatric-feeding-webinar/
END:VEVENT
BEGIN:VEVENT
DTSTART;TZID=America/Phoenix:20230505T070000
DTEND;TZID=America/Phoenix:20230505T110000
DTSTAMP:20260419T090155
CREATED:20230421T202014Z
LAST-MODIFIED:20230421T202014Z
UID:12473-1683270000-1683284400@studenttherapy.com
SUMMARY:#7355 Improving Coordination for the “Clumsy” Child - Live Webinar
DESCRIPTION:#7355 Improving Coordination for the “Clumsy” Child \n  \nMany school-aged children struggle with higher level motor skills that their peers have developed. These “clumsy” children may demonstrate difficulties with activities of daily living\, handwriting\, during recess or athletics. The ability to move safely in a coordinated manner requires upright postural control and an accurate understanding of the relationship between self and the environment. This is developed though movement experiences\, both successful and erroneous. In this webinar\, the underlying etiology of clumsiness\, concepts of motor learning and motor control will be discussed in relationship to neuroplasticity and the NDTA™ Contemporary Practice of NDT. The course will discuss evaluation tools to help identify areas of concern and treatment strategies utilizing an integrated approach. Course instruction method includes: Lecture\, Demonstration\, Videos\, Case Studies\, and Question/Answer.
URL:https://studenttherapy.com/continuing-education/7355-improving-coordination-for-the-clumsy-child-live-webinar/
END:VEVENT
END:VCALENDAR