BEGIN:VCALENDAR
VERSION:2.0
PRODID:-//STARS - Student Therapy and Resource Services - ECPv6.15.20//NONSGML v1.0//EN
CALSCALE:GREGORIAN
METHOD:PUBLISH
X-WR-CALNAME:STARS - Student Therapy and Resource Services
X-ORIGINAL-URL:https://studenttherapy.com
X-WR-CALDESC:Events for STARS - Student Therapy and Resource Services
REFRESH-INTERVAL;VALUE=DURATION:PT1H
X-Robots-Tag:noindex
X-PUBLISHED-TTL:PT1H
BEGIN:VTIMEZONE
TZID:America/Phoenix
BEGIN:STANDARD
TZOFFSETFROM:-0700
TZOFFSETTO:-0700
TZNAME:MST
DTSTART:20220101T000000
END:STANDARD
END:VTIMEZONE
BEGIN:VEVENT
DTSTART;TZID=America/Phoenix:20230424T070000
DTEND;TZID=America/Phoenix:20230424T150000
DTSTAMP:20260419T103429
CREATED:20230224T220828Z
LAST-MODIFIED:20230224T220828Z
UID:11356-1682319600-1682348400@studenttherapy.com
SUMMARY:Emotional Eating\, Chronic Dieting\, Bingeing and Body Image: What Every Clinician Needs to Know - Live Webinar
DESCRIPTION:“I’m too fat.” “I’m on a diet.” “Today is a cheat day.” Once I lose weight\, I’ll be happier.” “My eating is out of control.” \nThis kind of language runs rampant in our society and has no doubt made its way to your office. Clients who struggle with weight and food issues get caught in a vortex of shame\, preoccupation and hopelessness. Trapped between the rigidity of dieting and the chaos of overeating\, every day can be an emotional battle that may exacerbate or even result in low self-worth\, eating disorders\, anxiety or depression. \nTreatment of these issues is more than a matter of weight loss or self-control. In fact\, many times these very interventions do more harm than good! \nJoin Judith Matz as she shows you how to help your clients identify the shame that is woven into the diet-binge cycle\, challenge unhelpful thoughts and feelings\, and repair dysfunctional relationships with food – no willpower necessary! \nPacked with practical tips and backed by research\, this comprehensive 1 day seminar will teach you how to: \n\nIdentify issues related to food\, weight and body image in your very first session.\nUtilize CBT\, mindfulness and attuned eating strategies to transform shame into empowerment.\nDiscover personal bias and attitudes that may be counterproductive to the therapeutic process.\nHelp clients develop a healthy framework that ends out of control eating and is not subject to fad diets.\nLearn why clients get stuck in the diet/binge cycle and how to finally break it.\n\nSign up today!
URL:https://studenttherapy.com/continuing-education/emotional-eating-chronic-dieting-bingeing-and-body-image-what-every-clinician-needs-to-know-live-webinar-4/
END:VEVENT
END:VCALENDAR