BEGIN:VCALENDAR
VERSION:2.0
PRODID:-//STARS - Student Therapy and Resource Services - ECPv6.15.20//NONSGML v1.0//EN
CALSCALE:GREGORIAN
METHOD:PUBLISH
X-ORIGINAL-URL:https://studenttherapy.com
X-WR-CALDESC:Events for STARS - Student Therapy and Resource Services
REFRESH-INTERVAL;VALUE=DURATION:PT1H
X-Robots-Tag:noindex
X-PUBLISHED-TTL:PT1H
BEGIN:VTIMEZONE
TZID:America/Phoenix
BEGIN:STANDARD
TZOFFSETFROM:-0700
TZOFFSETTO:-0700
TZNAME:MST
DTSTART:20220101T000000
END:STANDARD
END:VTIMEZONE
BEGIN:VEVENT
DTSTART;TZID=America/Phoenix:20230420T060000
DTEND;TZID=America/Phoenix:20230421T140000
DTSTAMP:20260419T103454
CREATED:20230331T204705Z
LAST-MODIFIED:20230331T204705Z
UID:11937-1681970400-1682085600@studenttherapy.com
SUMMARY:2-Day Certification Training: Treating Anxiety Disorders in Children & Adolescents - Live Webinar
DESCRIPTION:Divorce\, family breakdown\, violence in society and the media\, has produced a “shell shocked” generation of kids suffering from anxiety! \nJoin anxiety expert and author\, Dr. Steve O’Brien\, who will demonstrate how you can “connect” with anxious children and inspire them to practice new self-regulation skills. You will learn how to help parents (“bulldozers\,” “helicopters” and “snowplows”) and schools gain confidence\, gratification and success in helping their most anxious kids. \nTo increase your effectiveness with the various manifestations of child anxiety\, Dr. O’Brien will address each of the following disorders with case examples and clinical vignettes: \n\nSeparation Anxiety Disorder\nPanic Disorder\nGeneralized Anxiety Disorder\nObsessive-compulsive disorders (including skin picking and hair pulling)\nSocial Anxiety Disorder/Selective Mutism\nSpecific phobias\nTrauma- and Stressor-related disorders\n\nEmphasis will be on creative psychotherapy involving insight-oriented\, cognitive-behavioral\, biological\, mindfulness\, and family systems interventions. \nBest of all\, upon completion of this live training\, you’ll be eligible to become a Certified Clinical Child & Adolescent Anxiety Treatment Professional (CCATP-CA) through Evergreen Certifications. Certification lets colleagues\, employers\, and clients know that you’ve invested the extra time and effort necessary to understand the complexities of child and adolescent anxiety counseling. Professional standards apply. Visit www. evergreencertifications.com/CCATPCA for details. \n\nCERTIFICATION MADE SIMPLE! \n\nNo hidden fees – PESI pays for your application fee (a $99 value)*!\nSimply complete this live event and the post-event evaluation included in this training\, and your application to be a Certified Clinical Child & Adolescent Anxiety Treatment Professional (CCATP-CA) through Evergreen Certifications is complete.*\n\nAttendees will receive documentation of CCATP-CA certification from Evergreen Certifications 4 to 6 weeks following the program. \n*Professional standards apply. Visit www.evergreencertifications.com/CCATPCA for professional requirements.
URL:https://studenttherapy.com/continuing-education/2-day-certification-training-treating-anxiety-disorders-in-children-adolescents-live-webinar-5/
END:VEVENT
BEGIN:VEVENT
DTSTART;TZID=America/Phoenix:20230421T090000
DTEND;TZID=America/Phoenix:20230421T170000
DTSTAMP:20260419T103454
CREATED:20230224T195918Z
LAST-MODIFIED:20230224T195918Z
UID:11336-1682067600-1682096400@studenttherapy.com
SUMMARY:Dyslexia: Building NEW Neuropathways to Master Visual and Auditory Memory\, Visual Perceptual Skills\, Visual Motor Skill Development & More! - Live Webinar
DESCRIPTION:Dyslexia – the invisible disability that impacts 1:5 individuals! \nIt’s not just an issue of trying harder or paying attention. \nYou know the stories you hear from your clients – hours of studying just to forget it all on a test the following day\, constant lack of ability to understand what they read\, difficulty remembering lists or instructions beyond three\, the overwhelming frustration of knowing what they want to say or do\, but not being able to express it on paper or get the words out\, socially withdrawn in attempt to hide their struggles. \nIn this seminar\, you will have the opportunity to practice treatment ideas that will incorporate the use of client-centered everyday routines\, games\, technology\, sensory\, and hands-on approaches to help your client overcome the challenges of life with dyslexia. \nUpon completion of this program\, you will be able to immediately provide treatment to address your client’s: \n\nVisual perceptual skills\nVisual motor integration\nAuditory and visual memory\nReading rate\, accuracy\, fluency\, comprehension\nPhonetic awareness and memory\nSpelling and handwriting struggles
URL:https://studenttherapy.com/continuing-education/dyslexia-building-new-neuropathways-to-master-visual-and-auditory-memory-visual-perceptual-skills-visual-motor-skill-development-more-live-webinar-2/
END:VEVENT
END:VCALENDAR