BEGIN:VCALENDAR
VERSION:2.0
PRODID:-//STARS - Student Therapy and Resource Services - ECPv6.15.20//NONSGML v1.0//EN
CALSCALE:GREGORIAN
METHOD:PUBLISH
X-ORIGINAL-URL:https://studenttherapy.com
X-WR-CALDESC:Events for STARS - Student Therapy and Resource Services
REFRESH-INTERVAL;VALUE=DURATION:PT1H
X-Robots-Tag:noindex
X-PUBLISHED-TTL:PT1H
BEGIN:VTIMEZONE
TZID:America/Phoenix
BEGIN:STANDARD
TZOFFSETFROM:-0700
TZOFFSETTO:-0700
TZNAME:MST
DTSTART:20220101T000000
END:STANDARD
END:VTIMEZONE
BEGIN:VEVENT
DTSTART;TZID=America/Phoenix:20230413T050000
DTEND;TZID=America/Phoenix:20230413T130000
DTSTAMP:20260419T103046
CREATED:20230331T203234Z
LAST-MODIFIED:20230331T203234Z
UID:11931-1681362000-1681390800@studenttherapy.com
SUMMARY:Tech Addiction & Digital Health in Children\, Adolescents & Young Adults: Level 1 Certification for Clinicians & Educators - Live Webinar
DESCRIPTION:We are on the verge of a global public health crisis – and the kids\, teens and young adults you work with are at the greatest risk. \nYoung people are living their lives in front of a screen with disastrous results. ADHD\, depression\, suicidality\, anxiety\, sleep irregularities\, thought disorders\, and stunted social skills are rising dramatically. Whether you’re a mental health professional or school-based professional the resources available have lacked the concrete strategies and real-life interventions you need to effectively intervene in this growing epidemic. \nDr. Nicholas Kardaras is an internationally renowned expert on tech addition\, author of the best-selling book Glow Kids\, and executive director of one of the world’s top rehabs\, The Dunes in East Hampton\, NY.  He is an active advocate for screen addiction to be included as a clinical disorder. \nJoin him at this Certification training and get the most effective tools\, strategies and techniques you need to help children\, adolescents\, young adults and families hijacked by technology overuse. \nAttend and discover: \n\nClinical and school-based interventions for problem screen usage\nSafe and effective strategies to work with kids hijacked by tech addiction\nHow family dynamics relate to problematic digital behaviors – and what you can do about it\nProven interventions to reduce video gaming\, social media\, and YouTube obsessions\nStrategies to improve digital boundaries and discipline\n\nBest of all\, completion of this training meets the educational requirements should you choose to apply to become a Certified Digital Health and Wellness Level 1 Professional (CDHWP) through the National Institute for Digital Health and Wellness (NIDHW). To learn more about how you can apply for CDHWP certification and distinguish yourself from other professionals\, visit www.nidhw.org. \nSign up today and leave feeling prepared and confident in your ability to lead young people hijacked by tech overuse on the path to a better life! \n\n2 EASY STEPS TO CERTIFICATION \n\nAttend this Certified Digital Health and Wellness Level 1 Professional (CDHWP) event with tech addiction expert Nicholas Kardaras\, PhD\, LCSW-R\nFor full certification details\, apply for CDHWP certification with National Institute for Digital Health and Wellness (NIDHW)\, and redeem $50 off your CDHWP certification fee\, visit www.nidhw.org
URL:https://studenttherapy.com/continuing-education/tech-addiction-digital-health-in-children-adolescents-young-adults-level-1-certification-for-clinicians-educators-live-webinar-3/
END:VEVENT
BEGIN:VEVENT
DTSTART;TZID=America/Phoenix:20230413T050000
DTEND;TZID=America/Phoenix:20230413T130000
DTSTAMP:20260419T103046
CREATED:20230331T203733Z
LAST-MODIFIED:20230331T203733Z
UID:11933-1681362000-1681390800@studenttherapy.com
SUMMARY:Deb Dana’s Putting Polyvagal Theory into Practice: Nervous System-Based Exercises for Anxiety\, Depression\, Trauma and More! - Live Webinar
DESCRIPTION:At the heart of our client’s symptoms – from anxiety and depression to traumatic stress and more – is a dysregulated nervous system. \nPolyvagal Theory presents a clear roadmap of our nervous system that can guide both therapists and clients to the source of their most troubling symptoms. \nAnd Polyvagal-informed treatments provide interventions that not only empower clients to understand how their nervous system shapes their experiences\, but also offers powerful methods to re-shape those experiences in therapy. \nThis live interactive training will be led by Peggy Hough\, MA\, LCPC\, CACD on behalf of Deb Dana\, LCSW. Peggy is one of a select group of senior trainers who are part of Deb Dana’s training team for the 6-month clinical training course: Foundations of Polyvagal-Informed Practice. \nThis one-day training incorporates core elements from Deb’s groundbreaking framework\, unique methodology\, and best-selling book Polyvagal Exercises for Safety & Connection. You will learn how to effectively utilize Deb’s original tools and techniques in your client sessions. All workshop content and material copyright by Deb Dana LCSW & Rhythm of Regulation™\, are incorporated in this PESI training with permission from Deb Dana. Attend and learn step-by-step to: \n\nTrack a client’s experience through their autonomic nervous system and uncover the specific places that keep them stuck\nInterrupt and re-shape habitual autonomic patterns that cause their emotional suffering\, maladaptive thoughts\, and un-helpful or impulsive behaviors\nIntroduce Polyvagal practices to help clients find autonomic regulation and psychological safety\nUtilize BASIC skills through seeing demos and experiencing the practices\nBONUS: 90 days of unlimited on-demand replays of your training\n\nWith the practical guidance you’ll gain from this workshop\, it’s now possible to get beneath symptoms and show clients how to safely listen to the “story” of their autonomic nervous system and to re-shape their experience toward safety and connection. \nUnderstanding the human nervous system through a Polyvagal lens has been a game-changer for therapists across modalities. There is no better way to learn it than through experiencing it yourself in this highly practical\, intervention-rich training. \nRegister today!
URL:https://studenttherapy.com/continuing-education/deb-danas-putting-polyvagal-theory-into-practice-nervous-system-based-exercises-for-anxiety-depression-trauma-and-more-live-webinar/
END:VEVENT
END:VCALENDAR