BEGIN:VCALENDAR
VERSION:2.0
PRODID:-//STARS - Student Therapy and Resource Services - ECPv6.15.20//NONSGML v1.0//EN
CALSCALE:GREGORIAN
METHOD:PUBLISH
X-WR-CALNAME:STARS - Student Therapy and Resource Services
X-ORIGINAL-URL:https://studenttherapy.com
X-WR-CALDESC:Events for STARS - Student Therapy and Resource Services
REFRESH-INTERVAL;VALUE=DURATION:PT1H
X-Robots-Tag:noindex
X-PUBLISHED-TTL:PT1H
BEGIN:VTIMEZONE
TZID:America/Phoenix
BEGIN:STANDARD
TZOFFSETFROM:-0700
TZOFFSETTO:-0700
TZNAME:MST
DTSTART:20220101T000000
END:STANDARD
END:VTIMEZONE
BEGIN:VEVENT
DTSTART;TZID=America/Phoenix:20230412T060000
DTEND;TZID=America/Phoenix:20230412T140000
DTSTAMP:20260419T102756
CREATED:20230224T195302Z
LAST-MODIFIED:20230224T195302Z
UID:11332-1681279200-1681308000@studenttherapy.com
SUMMARY:Big Behaviors in small containers: 50 Trauma-informed Play Therapy Interventions for Disorders of Dysregulation - Live Webinar
DESCRIPTION:Do parents come to you labeling their children as Manipulative\, Out-of-Control\, Disobedient\, or Shut Down? \nBelieve it or not\, you don’t need superhero powers to see the vulnerable\, dysregulated child within. \nThis workshop will offer practical\, fun\, and immediately useful play therapy interventions for engaging the family in treatment planning and goal setting\, augmenting adaptive coping\, enhancing the healthy attachment between parent and child\, help shift paradigms around problematic child behaviors and powerfully explain the stress response system. \nInterventions for helping clients practice anger management\, expand their emotional literacy\, practice pro-social skills with family and friends\, address their problematic thought life\, and increase coherence in their narratives around hard things that have happened
URL:https://studenttherapy.com/continuing-education/big-behaviors-in-small-containers-50-trauma-informed-play-therapy-interventions-for-disorders-of-dysregulation-live-webinar/
END:VEVENT
BEGIN:VEVENT
DTSTART;TZID=America/Phoenix:20230412T070000
DTEND;TZID=America/Phoenix:20230412T150000
DTSTAMP:20260419T102756
CREATED:20221220T154002Z
LAST-MODIFIED:20221220T154002Z
UID:11026-1681282800-1681311600@studenttherapy.com
SUMMARY:Food and Mood: A Therapist’s Guide to The Role of Nutrition in Mental Health - Live Webinar
DESCRIPTION:Diet is an often-ignored aspect of the prevention of poor mental health and the promotion of good emotional health. The causes of behavioral health problems are complex\, and nutrition is a valuable yet often missing piece of the puzzle to help clients improve their emotional state. \nImagine if you could feel more confident talking with clients about nutrition from a therapist’s point of view\, and do so while adhering to our ethical code. \nKathleen Zamperini\, LPC\, NCGC-1\, CMHIMP\, brings a unique perspective as a licensed professional counselor with a degree in nutrition and certification with the Mental Health Integrative Medical Institute. She uses the language of a therapist to explain key concepts of integrating a cognitive behavioral approach with nutritional strategies to improve treatment outcomes. \nDiscover the clinical applications to transform the way your clients view food and revolutionize your clinical toolbox to ethically educate clients about nutrition and how they can make lasting changes.
URL:https://studenttherapy.com/continuing-education/food-and-mood-a-therapists-guide-to-the-role-of-nutrition-in-mental-health-live-webinar-11/
END:VEVENT
END:VCALENDAR