BEGIN:VCALENDAR
VERSION:2.0
PRODID:-//STARS - Student Therapy and Resource Services - ECPv6.15.20//NONSGML v1.0//EN
CALSCALE:GREGORIAN
METHOD:PUBLISH
X-WR-CALNAME:STARS - Student Therapy and Resource Services
X-ORIGINAL-URL:https://studenttherapy.com
X-WR-CALDESC:Events for STARS - Student Therapy and Resource Services
REFRESH-INTERVAL;VALUE=DURATION:PT1H
X-Robots-Tag:noindex
X-PUBLISHED-TTL:PT1H
BEGIN:VTIMEZONE
TZID:America/Phoenix
BEGIN:STANDARD
TZOFFSETFROM:-0700
TZOFFSETTO:-0700
TZNAME:MST
DTSTART:20220101T000000
END:STANDARD
END:VTIMEZONE
BEGIN:VEVENT
DTSTART;TZID=America/Phoenix:20230411T120000
DTEND;TZID=America/Phoenix:20230411T130000
DTSTAMP:20260419T102756
CREATED:20230404T154418Z
LAST-MODIFIED:20230404T155526Z
UID:12028-1681214400-1681218000@studenttherapy.com
SUMMARY:Play\, Has It Become A 4 Letter Word In Education? Live Webinar
DESCRIPTION:Tue\, Apr 11\, 2023 at 3:00 pm EDT\nCEUs/Hours Offered: AOTA/0.1 Intermediate\, OT Service Delivery\, Foundational Knowledge\, 06616; CE Broker/1.0 General (FL)\, Patient Related (AL)\, Related To Direct Hands-On Patient Care (GA)\, Direct Client/patient Services In Occupational Therapy (SC)\, Related To OT (AZ)\, Related To OT (LA)\, Directly Related To OT (MS)\, Directly Related To OT (TN)\, CE Broker #20-937563; IACET/0.1; NBCOT PDUs/1.25 Intermediate\, Pediatrics \nLearning Outcomes\n\nAfter this course\, participants will be able to compare and contrast play-based approaches to learning versus academic approaches for Pre-K and kindergarten.\nAfter this course\, participants will be able to apply developmental needs for this age group for collaborative play-based centers.\nAfter this course\, participants will be able to examine curriculum standards\, taking away strategies to promote play as the conduit for learning.\n\n\nAgenda\n\n\n\n\n0-5 Minutes\nIntroduction\n\n\n5-15 Minutes\nComparing play-based learning to academic learning\n\n\n15-40 Minutes\nConsidering developmental needs\, we will look at how to promote both curriculum and refine skills\n\n\n40-55 Minutes\nCenter work\, and other environmental modalities that will help engage and teach with a differentiated model\n\n\n55-60 Minutes\nSummary; Q & A
URL:https://studenttherapy.com/continuing-education/play-has-it-become-a-4-letter-word-in-education-live-webinar/
END:VEVENT
END:VCALENDAR