BEGIN:VCALENDAR
VERSION:2.0
PRODID:-//STARS - Student Therapy and Resource Services - ECPv6.15.20//NONSGML v1.0//EN
CALSCALE:GREGORIAN
METHOD:PUBLISH
X-ORIGINAL-URL:https://studenttherapy.com
X-WR-CALDESC:Events for STARS - Student Therapy and Resource Services
REFRESH-INTERVAL;VALUE=DURATION:PT1H
X-Robots-Tag:noindex
X-PUBLISHED-TTL:PT1H
BEGIN:VTIMEZONE
TZID:America/Phoenix
BEGIN:STANDARD
TZOFFSETFROM:-0700
TZOFFSETTO:-0700
TZNAME:MST
DTSTART:20220101T000000
END:STANDARD
END:VTIMEZONE
BEGIN:VEVENT
DTSTART;TZID=America/Phoenix:20230324T060000
DTEND;TZID=America/Phoenix:20230324T140000
DTSTAMP:20260419T120846
CREATED:20221208T182204Z
LAST-MODIFIED:20221208T182204Z
UID:10962-1679637600-1679666400@studenttherapy.com
SUMMARY:Changing the ADHD Brain: Moving Beyond Medication - Live Webcast
DESCRIPTION:Many persons diagnosed with ADHD prefer not to take medication. There are various reasons for this including side effects and concerns with long-term use. In this seminar\, you will learn more about these reasons\, as well as alternative interventions for ADHD. \nLooking at ADHD from a developmental perspective\, we will consider reasons for the apparent increase in ADHD diagnoses over the past two decades. By understanding the way the brain works in ADHD\, you will be able to better identify a variety of strategies to significantly impact the nervous system and positively influence symptoms of ADHD in your clients. \nNot only will you walk away with information about some of the most common non-medication interventions for ADHD such as computerized cognitive training\, mindfulness meditation\, and neurofeedback\, you will also learn a variety of practical strategies that can be implemented immediately and at low cost. \nWe will navigate the vast research on exercise\, movement\, diet\, sleep\, disruptive technologies\, supplements\, and the impact of the environment on ADHD\, summarizing the findings and applying the information to “real life”. You will leave this seminar with the tools and knowledge to develop a holistic approach to working with adults and children with ADHD.
URL:https://studenttherapy.com/continuing-education/changing-the-adhd-brain-moving-beyond-medication-live-webcast/
END:VEVENT
BEGIN:VEVENT
DTSTART;TZID=America/Phoenix:20230324T070000
DTEND;TZID=America/Phoenix:20230324T150000
DTSTAMP:20260419T120846
CREATED:20230224T191410Z
LAST-MODIFIED:20230224T191410Z
UID:11324-1679641200-1679670000@studenttherapy.com
SUMMARY:Autism: De-Escalate Meltdowns and Diffuse Explosive Behaviors in Children and Adolescents - Live Webinar
DESCRIPTION:Do you work with children and adolescents with autism who exhibit explosive behaviors that interfere with their ability to effectively and efficiently navigate their environment? They appear willful\, obnoxious\, over reactive\, and unfeeling. They lose control of their ability to cope or regulate their behavior\, which can send them spiraling into a gut wrenching meltdown. \nJoin autism expert Kathy Morris\, M.Ed.\, B.S.\, for this live seminar and learn proven strategies and techniques to help children and adolescents with autism de-escalate before a full blown meltdown ensues\, develop self-control and self-management skills to prevent future meltdowns and learn appropriate/replacement behaviors. Dozens of strategies will be taught through dynamic video case examples and demonstrations. “Teach them in the way they learn” will be a mantra throughout the seminar. \nWalk away from this live seminar with these interventions and more: \n\nBreathe card and emotions chart to develop self-control and self-management skills\nSurprise cards\, change of schedule cues and transition markers to alleviate anxiety\nVideo modeling and role playing to improve social/emotional communication\nFirst person stories and visual cues to promote positive behavior\nVisual cues\, music and software designed to increase attention and focus\nSocial stories\, social scripts and emotions charts to develop self-regulation\nSOCCSS\, keychain rules and t-charts to target challenging behaviors
URL:https://studenttherapy.com/continuing-education/autism-de-escalate-meltdowns-and-diffuse-explosive-behaviors-in-children-and-adolescents-live-webinar-4/
END:VEVENT
END:VCALENDAR