BEGIN:VCALENDAR
VERSION:2.0
PRODID:-//STARS - Student Therapy and Resource Services - ECPv6.15.20//NONSGML v1.0//EN
CALSCALE:GREGORIAN
METHOD:PUBLISH
X-ORIGINAL-URL:https://studenttherapy.com
X-WR-CALDESC:Events for STARS - Student Therapy and Resource Services
REFRESH-INTERVAL;VALUE=DURATION:PT1H
X-Robots-Tag:noindex
X-PUBLISHED-TTL:PT1H
BEGIN:VTIMEZONE
TZID:America/Phoenix
BEGIN:STANDARD
TZOFFSETFROM:-0700
TZOFFSETTO:-0700
TZNAME:MST
DTSTART:20220101T000000
END:STANDARD
END:VTIMEZONE
BEGIN:VEVENT
DTSTART;TZID=America/Phoenix:20230321T173000
DTEND;TZID=America/Phoenix:20230321T200000
DTSTAMP:20260419T120803
CREATED:20221222T205535Z
LAST-MODIFIED:20221222T205535Z
UID:11058-1679419800-1679428800@studenttherapy.com
SUMMARY:Maximizing Mobility with Myofascial Release - Live Webinar
DESCRIPTION:Course Description\nExplore how myofascial release can contribute to functional performance by increasing flexibility\, reducing pain\, and improving quality of life in this brief introduction. Fascia is a network of connective tissue surrounding all structures in the body. Abnormal tension in the fascia from stress\, injury or disease contributes to a multitude of pain problems\, including fibromyalgia and myofascial pain syndrome.  Its role in mobility\, biomechanics and human performance is being recognized by researchers around the world. The latest evidence will be discussed to confirm the benefits of myofascial work.  This course includes photos of a variety of myofascial techniques to illustrate how this gentle stretching technology can transform mobility. \nCourse Objectives\nAt the end of this course\, the participant will be able to: \n\nDescribe the anatomy and function of the fascial system.\nDefine myofascial pain syndrome and fibromyalgia and discuss the differences between them.\nExplain the use of selected myofascial interventions to improve mobility and reduce pain.\nDiscuss the evidence-based research regarding the impact of the fascial system and efficacy of myofascial release
URL:https://studenttherapy.com/continuing-education/maximizing-mobility-with-myofascial-release-live-webinar/
END:VEVENT
END:VCALENDAR