BEGIN:VCALENDAR
VERSION:2.0
PRODID:-//STARS - Student Therapy and Resource Services - ECPv6.15.20//NONSGML v1.0//EN
CALSCALE:GREGORIAN
METHOD:PUBLISH
X-ORIGINAL-URL:https://studenttherapy.com
X-WR-CALDESC:Events for STARS - Student Therapy and Resource Services
REFRESH-INTERVAL;VALUE=DURATION:PT1H
X-Robots-Tag:noindex
X-PUBLISHED-TTL:PT1H
BEGIN:VTIMEZONE
TZID:America/Phoenix
BEGIN:STANDARD
TZOFFSETFROM:-0700
TZOFFSETTO:-0700
TZNAME:MST
DTSTART:20220101T000000
END:STANDARD
END:VTIMEZONE
BEGIN:VEVENT
DTSTART;TZID=America/Phoenix:20230320T160000
DTEND;TZID=America/Phoenix:20230320T180000
DTSTAMP:20260419T120848
CREATED:20221208T190138Z
LAST-MODIFIED:20221208T190138Z
UID:10970-1679328000-1679335200@studenttherapy.com
SUMMARY:Sports Rehab - Webinar
DESCRIPTION:Participation in sport and exercise is an essential part of health at all life stages\, with benefits for physical\, mental\, and social well-being. However\, participation in sport and exercise-related activities carries an inherent risk of injury. This webinar will help minimize the burden and long-term consequences of sport and exercise-related musculoskeletal injures. Participants will be able to assess and provide evidence-based\, patient-centered management strategies for the most common sport injuries. \nHighlights\n\nReview relevant and most recent sports injury research\nPractical assessment strategies you can use for sport injuries the next day\nEffective\, evidence-based interventions for the most common sport injuries
URL:https://studenttherapy.com/continuing-education/sports-rehab-webinar/
END:VEVENT
END:VCALENDAR