BEGIN:VCALENDAR
VERSION:2.0
PRODID:-//STARS - Student Therapy and Resource Services - ECPv6.15.20//NONSGML v1.0//EN
CALSCALE:GREGORIAN
METHOD:PUBLISH
X-ORIGINAL-URL:https://studenttherapy.com
X-WR-CALDESC:Events for STARS - Student Therapy and Resource Services
REFRESH-INTERVAL;VALUE=DURATION:PT1H
X-Robots-Tag:noindex
X-PUBLISHED-TTL:PT1H
BEGIN:VTIMEZONE
TZID:America/Phoenix
BEGIN:STANDARD
TZOFFSETFROM:-0700
TZOFFSETTO:-0700
TZNAME:MST
DTSTART:20220101T000000
END:STANDARD
END:VTIMEZONE
BEGIN:VEVENT
DTSTART;TZID=America/Phoenix:20230308T070000
DTEND;TZID=America/Phoenix:20230308T150000
DTSTAMP:20260419T120803
CREATED:20221208T180703Z
LAST-MODIFIED:20221208T180703Z
UID:10956-1678258800-1678287600@studenttherapy.com
SUMMARY:Anxiety\, ADHD and Anger in the Classroom: 60 Activity-Based Coping Skills to Effectively Manage “Big Feelings” - Live Webinar
DESCRIPTION:Managing the emotional climate of your classroom is crucial to learning. When children are struggling to manage anxiety\, ADHD and anger\, they can’t focus on the academic tasks expected of them in a classroom setting. By teaching kids simple\, healthy and safe ways to express their emotions and calm their bodies\, they will be better able to concentrate on their work during the school day. The positive impact healthy coping skills will have on a child’s academic performance is truly transformational. \nIn this seminar\, we’ll learn how coping skills impact a student’s nervous system\, and how to use that knowledge to help kids calm their bodies and get ready to learn. Join coping skills expert and experienced school counselor Janine Halloran\, LMHC as she shows you coping skills and techniques ideal for a classroom. \nWalk away with a coping skills toolbox: \n\nDeep breathing printables\nCheck in sheets\n”Anxiety thermometer”\nRelaxation exercises\n”What’s your play personality?”\nAnd many more\n\nBe prepared for experiential learning and movement as we try different coping skills like grounding techniques\, breathing exercises\, and big body movements throughout the day.
URL:https://studenttherapy.com/continuing-education/anxiety-adhd-and-anger-in-the-classroom-60-activity-based-coping-skills-to-effectively-manage-big-feelings-live-webinar-3/
END:VEVENT
BEGIN:VEVENT
DTSTART;TZID=America/Phoenix:20230308T070000
DTEND;TZID=America/Phoenix:20230308T150000
DTSTAMP:20260419T120803
CREATED:20221220T153832Z
LAST-MODIFIED:20221220T153832Z
UID:11024-1678258800-1678287600@studenttherapy.com
SUMMARY:Food and Mood: A Therapist’s Guide to The Role of Nutrition in Mental Health - Live Webinar
DESCRIPTION:Diet is an often-ignored aspect of the prevention of poor mental health and the promotion of good emotional health. The causes of behavioral health problems are complex\, and nutrition is a valuable yet often missing piece of the puzzle to help clients improve their emotional state. \nImagine if you could feel more confident talking with clients about nutrition from a therapist’s point of view\, and do so while adhering to our ethical code. \nKathleen Zamperini\, LPC\, NCGC-1\, CMHIMP\, brings a unique perspective as a licensed professional counselor with a degree in nutrition and certification with the Mental Health Integrative Medical Institute. She uses the language of a therapist to explain key concepts of integrating a cognitive behavioral approach with nutritional strategies to improve treatment outcomes. \nDiscover the clinical applications to transform the way your clients view food and revolutionize your clinical toolbox to ethically educate clients about nutrition and how they can make lasting changes.
URL:https://studenttherapy.com/continuing-education/food-and-mood-a-therapists-guide-to-the-role-of-nutrition-in-mental-health-live-webinar-10/
END:VEVENT
BEGIN:VEVENT
DTSTART;TZID=America/Phoenix:20230308T160000
DTEND;TZID=America/Phoenix:20230308T180000
DTSTAMP:20260419T120803
CREATED:20221209T215544Z
LAST-MODIFIED:20221209T215544Z
UID:10989-1678291200-1678298400@studenttherapy.com
SUMMARY:If You Can Make It\, You Can Take It: An AT Maker Workshop - Live
DESCRIPTION:Come to this make-and-take workshop to learn how to create a variety of easy-to-assemble learning tools made with paper\, PVC pipe\, and other materials that are found in your storage rooms\, garages\, and hardware stores. Leave with lots of DIY learning tools to use in your classroom the very next day\, including iPad stands\, tactile rulers\, weighted pencils\, and more. \n  \nWednesday\, March 8\, 2023\, 4:00–6:00 p.m. \nHosted by Yuma Elementary District \nAddress: 2353 Otondo Dr.\, Yuma\, AZ 85365 (Castle Dome Middle School)
URL:https://studenttherapy.com/continuing-education/if-you-can-make-it-you-can-take-it-an-at-maker-workshop-live-3/
END:VEVENT
END:VCALENDAR