BEGIN:VCALENDAR
VERSION:2.0
PRODID:-//STARS - Student Therapy and Resource Services - ECPv6.15.20//NONSGML v1.0//EN
CALSCALE:GREGORIAN
METHOD:PUBLISH
X-WR-CALNAME:STARS - Student Therapy and Resource Services
X-ORIGINAL-URL:https://studenttherapy.com
X-WR-CALDESC:Events for STARS - Student Therapy and Resource Services
REFRESH-INTERVAL;VALUE=DURATION:PT1H
X-Robots-Tag:noindex
X-PUBLISHED-TTL:PT1H
BEGIN:VTIMEZONE
TZID:America/Phoenix
BEGIN:STANDARD
TZOFFSETFROM:-0700
TZOFFSETTO:-0700
TZNAME:MST
DTSTART:20220101T000000
END:STANDARD
END:VTIMEZONE
BEGIN:VEVENT
DTSTART;TZID=America/Phoenix:20230303T060000
DTEND;TZID=America/Phoenix:20230303T140000
DTSTAMP:20260419T120807
CREATED:20230224T190325Z
LAST-MODIFIED:20230224T190325Z
UID:11319-1677823200-1677852000@studenttherapy.com
SUMMARY:Play-Based CBT for Children with Anxiety: Innovative Techniques that Work - Live Webinar
DESCRIPTION:We know CBT is effective to help kids manage their anxiety. The problem is\, traditional CBT that is talk-focused and workbook-based falls flat. \nBy integrating therapeutic games\, art\, stories\, and puppets into CBT\, you’ll captivate children’s interest\, put them at ease\, and motivate them to learn and apply core skills. \nThis one-day event will offer you an opportunity to walk alongside an expert and learn creative therapeutic techniques to engage\, assess and treat anxious children. You’ll learn to forge a more positive therapeutic experience for kids as they get out from underneath the anxious chatter in their minds. \nJoin award-winning author and international speaker Liana Lowenstein\, as she brings CBT to life through her innovative approach. \nYou’ll learn to make CBT engaging through PLAY interventions to: \n\nCreate a safe and trusting therapeutic environment\nAssess anxiety symptoms and its impact on the child\nProvide kid-friendly psychoeducation about anxiety and CBT basics\nFoster treatment readiness and navigate resistance\nImplement developmentally appropriate cognitive restructuring techniques\nDevelop gradual exposure plans that fit the child’s needs\nTeach effective relapse prevention skills\n\nWatch the activities come alive through videos of client sessions and activity demonstrations and come ready to play and immerse yourself in hands-on experiential exercises. \nMake CBT interventions come alive – register today!
URL:https://studenttherapy.com/continuing-education/play-based-cbt-for-children-with-anxiety-innovative-techniques-that-work-live-webinar/
END:VEVENT
BEGIN:VEVENT
DTSTART;TZID=America/Phoenix:20230303T080000
DTEND;TZID=America/Phoenix:20230303T160000
DTSTAMP:20260419T120807
CREATED:20230221T233205Z
LAST-MODIFIED:20230221T233205Z
UID:11295-1677830400-1677859200@studenttherapy.com
SUMMARY:LIVE WEBINAR Over 75 Quick "On the Spot" Techniques for Children and Adolescents with Emotional and Behavioral Problems
DESCRIPTION:Leaving nothing to the abstract\, “75 Quick\, ‘On-the-Spot’ Techniques for Children and Adolescents with Emotional and Behavioral Problems” will guide you through focused\, clear and successful methods for treating children. Every professional who seeks to fill their toolbox with tested methods will leave this seminar with a wealth of fresh ideas and rejuvenated spirits. \nIf you do not have a lot of experience working with children and teens\, you will leave with a defined strategy for success. If you are a seasoned professional\, you will learn new tricks and techniques to re-energize and revitalize your practice!
URL:https://studenttherapy.com/continuing-education/live-webinar-over-75-quick-on-the-spot-techniques-for-children-and-adolescents-with-emotional-and-behavioral-problems/
END:VEVENT
END:VCALENDAR