BEGIN:VCALENDAR
VERSION:2.0
PRODID:-//STARS - Student Therapy and Resource Services - ECPv6.15.20//NONSGML v1.0//EN
CALSCALE:GREGORIAN
METHOD:PUBLISH
X-ORIGINAL-URL:https://studenttherapy.com
X-WR-CALDESC:Events for STARS - Student Therapy and Resource Services
REFRESH-INTERVAL;VALUE=DURATION:PT1H
X-Robots-Tag:noindex
X-PUBLISHED-TTL:PT1H
BEGIN:VTIMEZONE
TZID:America/Phoenix
BEGIN:STANDARD
TZOFFSETFROM:-0700
TZOFFSETTO:-0700
TZNAME:MST
DTSTART:20220101T000000
END:STANDARD
END:VTIMEZONE
BEGIN:VEVENT
DTSTART;TZID=America/Phoenix:20230227T060000
DTEND;TZID=America/Phoenix:20230227T140000
DTSTAMP:20260419T120803
CREATED:20230224T211656Z
LAST-MODIFIED:20230224T211656Z
UID:11342-1677477600-1677506400@studenttherapy.com
SUMMARY:The Ten Best-Ever Anxiety Treatment Techniques: Updated Strategies to Help Even the Most Challenging Clients - Live Webinar
DESCRIPTION:Helping your clients overcome anxiety is challenging. You’ve tried the common techniques but aren’t confident you applied them correctly and worse\, your client is still struggling. If you’re feeling frustrated and unsure of what to do next? Then don’t miss this opportunity! Join neuroscience and anxiety expert\, Dr. Daniel van Ingen as he teaches you the 10 Best-Ever Anxiety Techniques and help you master: \n\nApplying the techniques with difficult cases\nUsing the techniques with different age groups\nTreating clients with co-morbid diagnosis\nOptions to use with groups and individuals that work in every clinical population\nApplying the neuroscience of memory reconsolidation and the default mode network to create successful exposure therapies and reduce rigid\, anxious thought process\n\nThis fresh approach will give you a complete set of tools to work with anxiety symptoms. You’ll learn what the latest research has proven and you’ll be confident that you can apply these techniques in clinical practice. Most importantly\, Dr. Daniel van Ingen’s pragmatic approach will provide you with practical strategies you can immediately use with all clients.
URL:https://studenttherapy.com/continuing-education/the-ten-best-ever-anxiety-treatment-techniques-updated-strategies-to-help-even-the-most-challenging-clients-live-webinar-7/
END:VEVENT
BEGIN:VEVENT
DTSTART;TZID=America/Phoenix:20230227T180000
DTEND;TZID=America/Phoenix:20230227T200000
DTSTAMP:20260419T120803
CREATED:20221222T203810Z
LAST-MODIFIED:20221222T203810Z
UID:11054-1677520800-1677528000@studenttherapy.com
SUMMARY:Current Concepts of Shoulder Tendinopathies: An Exercise & Manual Therapy Approach - Live Webinar
DESCRIPTION:Course Description\nThe shoulder is an area that is highly susceptible to tendon-related pain and injury.  Given the complexity of tendon overlay at this area and high level of mobility in the shoulder complex\, tendinopathy can be a difficult condition to manage conservatively.  The rotator cuff and biceps tendons are common sources of pain generation.  Characterized by painful mechanical loading of an involved tendon\, tendinopathy is a common clinical condition associated with significant limitations in daily activities.  Recent research has improved the understanding and management of tendinopathy; however\, clinical management of this condition continues to be variable in both type and theory of intervention.  Current standard of therapy practice has yet to leverage the latest literature for effective treatment of tendinopathy. \nProgressive mechanical loading has been found to be an effective management strategy\, but the research is variable between the upper and lower extremities.  Different modes of strength training\, including isometric\, isotonic\, isolated eccentric\, and isokinetic\, can be used to control pain\, improve motor control\, and enhance function in pathological tissue. \nTendinopathy of the upper extremities can have profound negative effects on an individual’s ability to participate in and return to their previous level of functional activities.  This presentation will highlight current available evidence related to shoulder tendinopathy and provide simple\, effective\, and easy-to-implement clinical management strategies for pain\, progression of functional activities\, and treatment of the entire kinetic chain.  The emphasis of this course will be on exercise and manual therapy strategies. \nCourse Objectives\nAt the end of this course\, the participant will be able to: \n\nUnderstand the most current research related to upper and lower extremity tendinopathy\nDescribe examination components in the evaluation of tendinopathy\nUtilize strategies for pain management and treatment of the entire kinetic chain.\nDevelop a rehabilitation program that incorporates guidelines for tissue loading progression and return to activity
URL:https://studenttherapy.com/continuing-education/current-concepts-of-shoulder-tendinopathies-an-exercise-manual-therapy-approach-live-webinar/
END:VEVENT
END:VCALENDAR