BEGIN:VCALENDAR
VERSION:2.0
PRODID:-//STARS - Student Therapy and Resource Services - ECPv6.15.20//NONSGML v1.0//EN
CALSCALE:GREGORIAN
METHOD:PUBLISH
X-WR-CALNAME:STARS - Student Therapy and Resource Services
X-ORIGINAL-URL:https://studenttherapy.com
X-WR-CALDESC:Events for STARS - Student Therapy and Resource Services
REFRESH-INTERVAL;VALUE=DURATION:PT1H
X-Robots-Tag:noindex
X-PUBLISHED-TTL:PT1H
BEGIN:VTIMEZONE
TZID:America/Phoenix
BEGIN:STANDARD
TZOFFSETFROM:-0700
TZOFFSETTO:-0700
TZNAME:MST
DTSTART:20220101T000000
END:STANDARD
END:VTIMEZONE
BEGIN:VEVENT
DTSTART;TZID=America/Phoenix:20230218T090000
DTEND;TZID=America/Phoenix:20230218T110000
DTSTAMP:20260419T132905
CREATED:20221222T202445Z
LAST-MODIFIED:20221222T202445Z
UID:11046-1676710800-1676718000@studenttherapy.com
SUMMARY:A Pediatric Guide to Working with Children with Handwriting Issues - Live Webinar
DESCRIPTION:Course Description\nAre you in need of tips and tricks to teach handwriting? Are you wondering what the best programs are to use? Or what research backs your practice? Do you question when it’s time to shift a child to typing? Or whether your client is dysgraphic? \nThis course is designed to develop pediatric OTs & OTAs knowledge of handwriting\, current research\, and best alternatives to dysgraphia. Through functional\, meaningful training\, the course will teach you the tips and tricks that help children learn to write\, as well as the research that supports your work. This course is of value to OTs & OTAs that want to have a greater understanding of how to work with children with handwriting delays. \nCourse Objectives\nAt the end of this course\, the participant will be able to: \n\nUnderstand the components of handwriting (tools\, presentation\, preparation\, grip\, pressure\, motor planning\, seating)\nUnderstand the prevalence of handwriting issues\nUnderstand current research supporting OT work with handwriting\nManage the total child (considering common comorbid conditions associated with handwriting delays)
URL:https://studenttherapy.com/continuing-education/a-pediatric-guide-to-working-with-children-with-handwriting-issues-live-webinar/
END:VEVENT
END:VCALENDAR