BEGIN:VCALENDAR
VERSION:2.0
PRODID:-//STARS - Student Therapy and Resource Services - ECPv6.15.20//NONSGML v1.0//EN
CALSCALE:GREGORIAN
METHOD:PUBLISH
X-ORIGINAL-URL:https://studenttherapy.com
X-WR-CALDESC:Events for STARS - Student Therapy and Resource Services
REFRESH-INTERVAL;VALUE=DURATION:PT1H
X-Robots-Tag:noindex
X-PUBLISHED-TTL:PT1H
BEGIN:VTIMEZONE
TZID:America/Phoenix
BEGIN:STANDARD
TZOFFSETFROM:-0700
TZOFFSETTO:-0700
TZNAME:MST
DTSTART:20220101T000000
END:STANDARD
END:VTIMEZONE
BEGIN:VEVENT
DTSTART;TZID=America/Phoenix:20230202T070000
DTEND;TZID=America/Phoenix:20230202T140000
DTSTAMP:20260419T133012
CREATED:20221018T225053Z
LAST-MODIFIED:20221018T225053Z
UID:10831-1675321200-1675346400@studenttherapy.com
SUMMARY:Exploring Primitive Reflexes in the Developing Child - Webinar
DESCRIPTION:Highlights\n\n\nImmediately improve functional performance through play and academic setting using practical treatment techniques\nConfidently perform an assessment to test for functional deficits related to retained primitive reflexes\nPractical assessment and treatment strategies for motor delays for your pediatric patients\nHands-on labs for assessment and treatment of deficitsrelated to retained primitive reflexes\nEffective\, evidence-based interventions for remediation of developmental delays resulting from retained primitive reflexes
URL:https://studenttherapy.com/continuing-education/exploring-primitive-reflexes-in-the-developing-child-webinar/
END:VEVENT
BEGIN:VEVENT
DTSTART;TZID=America/Phoenix:20230202T070000
DTEND;TZID=America/Phoenix:20230202T150000
DTSTAMP:20260419T133012
CREATED:20221220T153557Z
LAST-MODIFIED:20221220T153557Z
UID:11022-1675321200-1675350000@studenttherapy.com
SUMMARY:Food and Mood: A Therapist’s Guide to The Role of Nutrition in Mental Health - Live Webinar
DESCRIPTION:Diet is an often-ignored aspect of the prevention of poor mental health and the promotion of good emotional health. The causes of behavioral health problems are complex\, and nutrition is a valuable yet often missing piece of the puzzle to help clients improve their emotional state. \nImagine if you could feel more confident talking with clients about nutrition from a therapist’s point of view\, and do so while adhering to our ethical code. \nKathleen Zamperini\, LPC\, NCGC-1\, CMHIMP\, brings a unique perspective as a licensed professional counselor with a degree in nutrition and certification with the Mental Health Integrative Medical Institute. She uses the language of a therapist to explain key concepts of integrating a cognitive behavioral approach with nutritional strategies to improve treatment outcomes. \nDiscover the clinical applications to transform the way your clients view food and revolutionize your clinical toolbox to ethically educate clients about nutrition and how they can make lasting changes
URL:https://studenttherapy.com/continuing-education/food-and-mood-a-therapists-guide-to-the-role-of-nutrition-in-mental-health-live-webinar-9/
END:VEVENT
BEGIN:VEVENT
DTSTART;TZID=America/Phoenix:20230202T180000
DTEND;TZID=America/Phoenix:20230202T200000
DTSTAMP:20260419T133012
CREATED:20221222T201637Z
LAST-MODIFIED:20221222T201637Z
UID:11042-1675360800-1675368000@studenttherapy.com
SUMMARY:Evaluation and Treatment of Upper Extremity Nerve Injuries - Live Webinar
DESCRIPTION:Course Description\nThis course is intended for PTs/PTAs/OTs/OTAs/ATs who are looking to master care for patients with upper extremity nerve injuries.  The course will review important anatomical areas of the upper limb\, effective evaluation techniques\, treatment solutions for nerve trauma\, understand post-operative protocols nerve repairs and compression releases.  The presenters of this course have extensive experience with treating patients with upper extremity nerve trauma and will give examples of case studies to complex treatment plans and provide feedback throughout the course. \nCourse Objectives\nAt the end of this course\, the participant will be able to: \n1)  Evaluate Upper Extremity Nerve Pathologies \n2)  Create Effective treatment plans for patients with Upper Extremity Nerve injuries \n3)  Have an Understanding of Upper Extremity Neurological Anatomy
URL:https://studenttherapy.com/continuing-education/evaluation-and-treatment-of-upper-extremity-nerve-injuries-live-webinar/
END:VEVENT
END:VCALENDAR