BEGIN:VCALENDAR
VERSION:2.0
PRODID:-//STARS - Student Therapy and Resource Services - ECPv6.15.20//NONSGML v1.0//EN
CALSCALE:GREGORIAN
METHOD:PUBLISH
X-WR-CALNAME:STARS - Student Therapy and Resource Services
X-ORIGINAL-URL:https://studenttherapy.com
X-WR-CALDESC:Events for STARS - Student Therapy and Resource Services
REFRESH-INTERVAL;VALUE=DURATION:PT1H
X-Robots-Tag:noindex
X-PUBLISHED-TTL:PT1H
BEGIN:VTIMEZONE
TZID:America/Phoenix
BEGIN:STANDARD
TZOFFSETFROM:-0700
TZOFFSETTO:-0700
TZNAME:MST
DTSTART:20220101T000000
END:STANDARD
END:VTIMEZONE
BEGIN:VEVENT
DTSTART;TZID=America/Phoenix:20230114T100000
DTEND;TZID=America/Phoenix:20230114T120000
DTSTAMP:20260419T145717
CREATED:20221018T224322Z
LAST-MODIFIED:20221018T224322Z
UID:10827-1673690400-1673697600@studenttherapy.com
SUMMARY:Early Intervention: Postural Control and Handling Techniques - Webinar
DESCRIPTION:Highlights\n\n\nHandling and sensory motor input techniques for the pediatric patient with motor control issues such as hypotonia\, spasticity and ataxia\nImprove the quality of movement through developmental positions for the pediatric patient\nVideo treatment sessions with children who have hypotonia\, hypertonia and ataxia
URL:https://studenttherapy.com/continuing-education/early-intervention-postural-control-and-handling-techniques-webinar/
END:VEVENT
END:VCALENDAR