BEGIN:VCALENDAR
VERSION:2.0
PRODID:-//STARS - Student Therapy and Resource Services - ECPv6.15.20//NONSGML v1.0//EN
CALSCALE:GREGORIAN
METHOD:PUBLISH
X-WR-CALNAME:STARS - Student Therapy and Resource Services
X-ORIGINAL-URL:https://studenttherapy.com
X-WR-CALDESC:Events for STARS - Student Therapy and Resource Services
REFRESH-INTERVAL;VALUE=DURATION:PT1H
X-Robots-Tag:noindex
X-PUBLISHED-TTL:PT1H
BEGIN:VTIMEZONE
TZID:America/Phoenix
BEGIN:STANDARD
TZOFFSETFROM:-0700
TZOFFSETTO:-0700
TZNAME:MST
DTSTART:20220101T000000
END:STANDARD
END:VTIMEZONE
BEGIN:VEVENT
DTSTART;TZID=America/Phoenix:20230110T160000
DTEND;TZID=America/Phoenix:20230110T180000
DTSTAMP:20260419T145716
CREATED:20221209T214857Z
LAST-MODIFIED:20221209T214857Z
UID:10985-1673366400-1673373600@studenttherapy.com
SUMMARY:If You Can Make It\, You Can Take It: An AT Maker Workshop - Live
DESCRIPTION:Come to this make-and-take workshop to learn how to create a variety of easy-to-assemble learning tools made with paper\, PVC pipe\, and other materials that are found in your storage rooms\, garages\, and hardware stores. Leave with lots of DIY learning tools to use in your classroom the very next day\, including iPad stands\, tactile rulers\, weighted pencils\, and more. \n  \nTuesday\, January 10\, 2023\, 4:00–6:00 p.m. \nHosted by Sierra Vista Unified School District #68 \nAddress: 3305 E. Fry Blvd.\, Sierra Vista\, AZ 85635
URL:https://studenttherapy.com/continuing-education/if-you-can-make-it-you-can-take-it-an-at-maker-workshop-live/
END:VEVENT
BEGIN:VEVENT
DTSTART;TZID=America/Phoenix:20230110T170000
DTEND;TZID=America/Phoenix:20230110T190000
DTSTAMP:20260419T145716
CREATED:20221208T210116Z
LAST-MODIFIED:20221208T210116Z
UID:10981-1673370000-1673377200@studenttherapy.com
SUMMARY:Therapeutic Kinesiology Taping for Children With Neurological Impairments - Webinar
DESCRIPTION:Children with neurological impairments benefit from improved sensory perceptive information coming into their nervous system. Therapeutic kinesiology taping can facilitate muscle activity\, inhibit abnormal muscle activity\, assist to reposition joints\, support postural alignment\, and improve proprioception for better functional outcomes. some of the benefits of therapeutic kinesiology taping include providing stability of joints while allowing full range of motion\, unloading tissue via decompression for improved sliding of myofascial layers and providing enhanced motor control through a novel stimulus during movement for improved body awareness. Evidence-based research suggests that clinicians who incorporate kinesiology taping into their treatment plan note improvement in the postural control and functional activities with both\, upper and lower limbs\, and increase in functional independency. \nParticipants of this course will learn to implement kinesiology taping for the most common problems in the pediatric patient with neuromotor disorders such as: truncal hypotonia\, shoulder girdle instability\, and extremity dysfunction. Participants will leave with practical and effective kinesiology taping skills they can integrate into their toolbox the next day to improve therapeutic outcomes. \nHighlights\n\nTherapeutic kinesiology taping interventions for common dysfunctions in the neurological pediatric patient\, such as truncal hypotonia\, shoulder girdle instability\, and extremity dysfunction\nEffective application and precautions of kinesiology taping to parents and caregivers to include this modality in a home program\nCase study practice to gain the indications and protocols for applying handling and therapeutic taping interventions
URL:https://studenttherapy.com/continuing-education/therapeutic-kinesiology-taping-for-children-with-neurological-impairments-webinar-2/
END:VEVENT
END:VCALENDAR