BEGIN:VCALENDAR
VERSION:2.0
PRODID:-//STARS - Student Therapy and Resource Services - ECPv6.15.20//NONSGML v1.0//EN
CALSCALE:GREGORIAN
METHOD:PUBLISH
X-WR-CALNAME:STARS - Student Therapy and Resource Services
X-ORIGINAL-URL:https://studenttherapy.com
X-WR-CALDESC:Events for STARS - Student Therapy and Resource Services
REFRESH-INTERVAL;VALUE=DURATION:PT1H
X-Robots-Tag:noindex
X-PUBLISHED-TTL:PT1H
BEGIN:VTIMEZONE
TZID:America/Phoenix
BEGIN:STANDARD
TZOFFSETFROM:-0700
TZOFFSETTO:-0700
TZNAME:MST
DTSTART:20220101T000000
END:STANDARD
END:VTIMEZONE
BEGIN:VEVENT
DTSTART;TZID=America/Phoenix:20230105T100000
DTEND;TZID=America/Phoenix:20230105T120000
DTSTAMP:20260419T145717
CREATED:20221018T224029Z
LAST-MODIFIED:20221018T224029Z
UID:10825-1672912800-1672920000@studenttherapy.com
SUMMARY:Therapeutic Kinesiology Taping for Children With Neurological Impairments - Webinar
DESCRIPTION:Highlights\n\n\nTherapeutic kinesiology taping interventions for common dysfunctions in the neurological pediatric patient\, such as truncal hypotonia\, shoulder girdle instability\, and extremity dysfunction\nEffective application and precautions of kinesiology taping to parents andcaregivers to include this modality in a home program\nCase study practice to gain the indications and protocols for applying handling and therapeutic taping interventions
URL:https://studenttherapy.com/continuing-education/therapeutic-kinesiology-taping-for-children-with-neurological-impairments-webinar/
END:VEVENT
END:VCALENDAR