BEGIN:VCALENDAR
VERSION:2.0
PRODID:-//STARS - Student Therapy and Resource Services - ECPv6.15.20//NONSGML v1.0//EN
CALSCALE:GREGORIAN
METHOD:PUBLISH
X-ORIGINAL-URL:https://studenttherapy.com
X-WR-CALDESC:Events for STARS - Student Therapy and Resource Services
REFRESH-INTERVAL;VALUE=DURATION:PT1H
X-Robots-Tag:noindex
X-PUBLISHED-TTL:PT1H
BEGIN:VTIMEZONE
TZID:America/Phoenix
BEGIN:STANDARD
TZOFFSETFROM:-0700
TZOFFSETTO:-0700
TZNAME:MST
DTSTART:20210101T000000
END:STANDARD
END:VTIMEZONE
BEGIN:VEVENT
DTSTART;TZID=America/Phoenix:20221209T060000
DTEND;TZID=America/Phoenix:20221209T130000
DTSTAMP:20260419T164510
CREATED:20220613T181519Z
LAST-MODIFIED:20220613T181519Z
UID:10242-1670565600-1670590800@studenttherapy.com
SUMMARY:Autism: Across the Spectrum - Live Webinar
DESCRIPTION:Course Highlights\nAutism: Across the Spectrum \n\n50 Hands-on therapy tools and strategies that help children with autism spectrum disorders through sensory integration\, communication and language\, behavior\, social skills\, and education\nReceive ready-to-use handouts\, checklists and inexpensive therapy strategies to make your work easier and more efficient from a certified SLP and mother of a child on the spectrum\nCase studies and videos to support families and children in daily living solutions that will help in the school\, home and community\nSensory integration problem solving and treatment solutions available to children with autism spectrum disorders as presented in young children\nUnderstand early patterns of development in infants and toddlers who have or are at risk for developing autism spectrum disorders
URL:https://studenttherapy.com/continuing-education/autism-across-the-spectrum-live-webinar/
END:VEVENT
BEGIN:VEVENT
DTSTART;TZID=America/Phoenix:20221209T080000
DTEND;TZID=America/Phoenix:20221209T100000
DTSTAMP:20260419T164510
CREATED:20220613T180930Z
LAST-MODIFIED:20220613T180930Z
UID:10238-1670572800-1670580000@studenttherapy.com
SUMMARY:The Building Blocks of Childhood Apraxia of Speech (CAS) - Live Webinar
DESCRIPTION:Course Highlights\nThe Building Blocks of Childhood Apraxia of Speech (CAS) \n\nDiagnostic criteria needed to differentiate Childhood Apraxia of Speech (CAS) from other speech sound disorders\nEssential components of motor-based treatment approaches for Childhood Apraxia of Speech (CAS)\nPractical treatment strategies you can use the next day with clients who have mild to severe Childhood Apraxia of Speech (CAS)
URL:https://studenttherapy.com/continuing-education/the-building-blocks-of-childhood-apraxia-of-speech-cas-live-webinar/
END:VEVENT
BEGIN:VEVENT
DTSTART;TZID=America/Phoenix:20221209T080000
DTEND;TZID=America/Phoenix:20221209T160000
DTSTAMP:20260419T164510
CREATED:20220829T180212Z
LAST-MODIFIED:20220829T180212Z
UID:10603-1670572800-1670601600@studenttherapy.com
SUMMARY:Self-Regulation Interventions for Children & Adolescents: Reduce Frustration\, Emotional Outbursts & Oppositional Behaviors - Live Webcast
DESCRIPTION:This seminar will help you to better intervene with the challenging child—the one who won’t sit still; doesn’t follow directions; often throws tantrums; or has difficulty waiting for their turn. They may “hit first and ask questions later”. They react impulsively and have difficulty expressing what they need or what is frustrating them. We know this child is intelligent\, caring and kind\, but their behavior doesn’t reflect these positive qualities. These are the children who confuse and frustrate parents and who overwhelm teachers and peers. They struggle to meet basic expectations and are unable to succeed in school\, with peers and at home. \nJoin clinical psychologist Dr. Ehlert and learn to effectively intervene with the emotional and behavioral dysregulation of children with High-Functioning Autism\, ADHD\, Learning Disabilities and Sensory Processing Disorders. Through hands-on activities and dynamic discussion\, you will learn techniques\, behavioral strategies\, problem-solving strategies and brain training exercises to: \n\nAddress the sensory\, language and executive functioning processing deficits that trigger them\nIncrease their self-control\, social success\, emotional control and task completion\nTeach flexibility\, tolerance\, thinking it through and decision-making\nReduce the frequency and duration of their tantrums and emotional outbursts\n\nWalk away with proven emotional\, behavioral and processing strategies that lead to social and academic success!
URL:https://studenttherapy.com/continuing-education/self-regulation-interventions-for-children-adolescents-reduce-frustration-emotional-outbursts-oppositional-behaviors-live-webcast/
END:VEVENT
END:VCALENDAR