BEGIN:VCALENDAR
VERSION:2.0
PRODID:-//STARS - Student Therapy and Resource Services - ECPv6.15.20//NONSGML v1.0//EN
CALSCALE:GREGORIAN
METHOD:PUBLISH
X-WR-CALNAME:STARS - Student Therapy and Resource Services
X-ORIGINAL-URL:https://studenttherapy.com
X-WR-CALDESC:Events for STARS - Student Therapy and Resource Services
REFRESH-INTERVAL;VALUE=DURATION:PT1H
X-Robots-Tag:noindex
X-PUBLISHED-TTL:PT1H
BEGIN:VTIMEZONE
TZID:America/Phoenix
BEGIN:STANDARD
TZOFFSETFROM:-0700
TZOFFSETTO:-0700
TZNAME:MST
DTSTART:20210101T000000
END:STANDARD
END:VTIMEZONE
BEGIN:VEVENT
DTSTART;TZID=America/Phoenix:20221207T100000
DTEND;TZID=America/Phoenix:20221207T120000
DTSTAMP:20260419T164338
CREATED:20220913T221245Z
LAST-MODIFIED:20220913T221245Z
UID:10714-1670407200-1670414400@studenttherapy.com
SUMMARY:Solving the Handwriting Puzzle - Live Webinar
DESCRIPTION:Highlights\n\n\nEffective strategies to build student self- esteem\nConfidently address various handwriting deficits such as spacing\, handwriting pressure\, reversal\, and hand dominance\nEasy to incorporate interventions to progress handwriting therapy to successfully meet goals
URL:https://studenttherapy.com/continuing-education/solving-the-handwriting-puzzle-live-webinar/
END:VEVENT
END:VCALENDAR