BEGIN:VCALENDAR
VERSION:2.0
PRODID:-//STARS - Student Therapy and Resource Services - ECPv6.15.20//NONSGML v1.0//EN
CALSCALE:GREGORIAN
METHOD:PUBLISH
X-ORIGINAL-URL:https://studenttherapy.com
X-WR-CALDESC:Events for STARS - Student Therapy and Resource Services
REFRESH-INTERVAL;VALUE=DURATION:PT1H
X-Robots-Tag:noindex
X-PUBLISHED-TTL:PT1H
BEGIN:VTIMEZONE
TZID:America/Phoenix
BEGIN:STANDARD
TZOFFSETFROM:-0700
TZOFFSETTO:-0700
TZNAME:MST
DTSTART:20210101T000000
END:STANDARD
END:VTIMEZONE
BEGIN:VEVENT
DTSTART;TZID=America/Phoenix:20221116T060000
DTEND;TZID=America/Phoenix:20221116T140000
DTSTAMP:20260419T182006
CREATED:20220829T173534Z
LAST-MODIFIED:20220829T173534Z
UID:10595-1668578400-1668607200@studenttherapy.com
SUMMARY:Autism: De-Escalate Meltdowns and Diffuse Explosive Behaviors in Children and Adolescents - Live Webinar
DESCRIPTION:Do you work with children and adolescents with autism who exhibit explosive behaviors that interfere with their ability to effectively and efficiently navigate their environment? They appear willful\, obnoxious\, over reactive\, and unfeeling. They lose control of their ability to cope or regulate their behavior\, which can send them spiraling into a gut wrenching meltdown. \nJoin autism expert Kathy Morris\, M.Ed.\, B.S.\, for this live seminar and learn proven strategies and techniques to help children and adolescents with autism de-escalate before a full blown meltdown ensues\, develop self-control and self-management skills to prevent future meltdowns and learn appropriate/replacement behaviors. Dozens of strategies will be taught through dynamic video case examples and demonstrations. “Teach them in the way they learn” will be a mantra throughout the seminar. \nWalk away from this live seminar with these interventions and more: \n\nBreathe card and emotions chart to develop self-control and self-management skills\nSurprise cards\, change of schedule cues and transition markers to alleviate anxiety\nVideo modeling and role playing to improve social/emotional communication\nFirst person stories and visual cues to promote positive behavior\nVisual cues\, music and software designed to increase attention and focus\nSocial stories\, social scripts and emotions charts to develop self-regulation\nSOCCSS\, keychain rules and t-charts to target challenging behaviors
URL:https://studenttherapy.com/continuing-education/autism-de-escalate-meltdowns-and-diffuse-explosive-behaviors-in-children-and-adolescents-live-webinar-3/
END:VEVENT
END:VCALENDAR