BEGIN:VCALENDAR
VERSION:2.0
PRODID:-//STARS - Student Therapy and Resource Services - ECPv6.15.20//NONSGML v1.0//EN
CALSCALE:GREGORIAN
METHOD:PUBLISH
X-ORIGINAL-URL:https://studenttherapy.com
X-WR-CALDESC:Events for STARS - Student Therapy and Resource Services
REFRESH-INTERVAL;VALUE=DURATION:PT1H
X-Robots-Tag:noindex
X-PUBLISHED-TTL:PT1H
BEGIN:VTIMEZONE
TZID:America/Phoenix
BEGIN:STANDARD
TZOFFSETFROM:-0700
TZOFFSETTO:-0700
TZNAME:MST
DTSTART:20210101T000000
END:STANDARD
END:VTIMEZONE
BEGIN:VEVENT
DTSTART;TZID=America/Phoenix:20221114T080000
DTEND;TZID=America/Phoenix:20221114T153000
DTSTAMP:20260419T182006
CREATED:20220829T210910Z
LAST-MODIFIED:20220829T210910Z
UID:10646-1668412800-1668439800@studenttherapy.com
SUMMARY:Today's Best Treatments for the Upper Extremity: Rapidly Resolve Hand\, Wrist & Elbow Problems with Ease - Live Webinar
DESCRIPTION:When you’re working with upper extremity patients\, sometimes progress can feel like an uphill battle. \nMany patients have difficulty describing upper extremity symptoms\, so localizing the problem can be a challenge. Scar tissue and edema often limit tissue gliding so much that it interferes with exercises and functional tasks. And when standard treatment protocols fall short of expectations\, this can leave your patients frustrated\, pained by activities that give them purpose\, and resigned to surgical options. \nBut with the latest advances in upper extremity rehabilitation\, helping your patients achieve their functional goals is easier than ever. \nSign up now for this hands-on live webcast\, and learn how to get to the root cause of impairment faster with a comprehensive assessment that combines the best evaluations currently available. Revolutionize your therapy toolbox with innovative interventions you can use immediately to accelerate progress. And design advanced plans of care for a variety of common upper extremity diagnoses\, fluently combining techniques for optimal outcomes. \nJoin the former president of the American Society of Hand Therapists\, Kristin Valdes\, for this live webcast as she guides you through a proven framework for upper extremity rehabilitation that has helped countless patients regain lost function and rediscover life without the pain.
URL:https://studenttherapy.com/continuing-education/todays-best-treatments-for-the-upper-extremity-rapidly-resolve-hand-wrist-elbow-problems-with-ease-live-webinar-2/
END:VEVENT
END:VCALENDAR