BEGIN:VCALENDAR
VERSION:2.0
PRODID:-//STARS - Student Therapy and Resource Services - ECPv6.15.20//NONSGML v1.0//EN
CALSCALE:GREGORIAN
METHOD:PUBLISH
X-ORIGINAL-URL:https://studenttherapy.com
X-WR-CALDESC:Events for STARS - Student Therapy and Resource Services
REFRESH-INTERVAL;VALUE=DURATION:PT1H
X-Robots-Tag:noindex
X-PUBLISHED-TTL:PT1H
BEGIN:VTIMEZONE
TZID:America/Phoenix
BEGIN:STANDARD
TZOFFSETFROM:-0700
TZOFFSETTO:-0700
TZNAME:MST
DTSTART:20210101T000000
END:STANDARD
END:VTIMEZONE
BEGIN:VEVENT
DTSTART;TZID=America/Phoenix:20221108T070000
DTEND;TZID=America/Phoenix:20221109T150000
DTSTAMP:20260419T182003
CREATED:20220829T210238Z
LAST-MODIFIED:20220829T210312Z
UID:10642-1667890800-1668006000@studenttherapy.com
SUMMARY:2-Day: Advanced CBT Training: Evidence-Based Interventions for Chronic Anxiety\, OCD\, Depression\, Trauma and PTSD - Live Webinar
DESCRIPTION:Cognitive Behavioral Therapy (CBT) is an evidence based treatment that is one of the most effective treatments for chronic\, recurring\, and challenging mental health issues such as: \n\nAnxiety\nOCD\nPTSD\nDepression\n\nNow\, the opportunity is yours to learn this powerful modality in a comprehensive online course from CBT expert and author John Ludgate\, PhD. Dr. Ludgate is a Founding Fellow of the Academy of Cognitive Therapy and trained under Cognitive Therapy’s founder Dr. Aaron Beck at the Center for Cognitive Therapy. \nIn this intensive online CBT training course\, you’ll be provided with a proven set of clinical tools and skills that can enhance your practice – from the basic CBT you might have learned early in your career to more advanced CBT techniques applied to a range of disorders. \nCBT techniques can sometimes seem deceptively simple to apply but in actual clinical practice it requires demonstrable skills in three areas. \n\nConceptualizing client’s presenting problems from a CBT perspective\,\nSelecting appropriate interventions consistent with the case formulation\, and\nDelivering these interventions and techniques systematically and with maximum effectiveness.\n\nThis training will assist you in developing skills in all three areas. \nDr. Ludgate will show how to overcome common obstacles frequently encountered in doing CBT with clients with different disorders. \n\nImprove your clients’ therapeutic experience with CBT interventions that are consistently shown to be effective.\nUtilize a fresh set of clinical tools and skills that can improve your practice\, and treatment outcomes.
URL:https://studenttherapy.com/continuing-education/2-day-advanced-cbt-training-evidence-based-interventions-for-chronic-anxiety-ocd-depression-trauma-and-ptsd-live-webinar/
END:VEVENT
BEGIN:VEVENT
DTSTART;TZID=America/Phoenix:20221109T080000
DTEND;TZID=America/Phoenix:20221109T160000
DTSTAMP:20260419T182003
CREATED:20220829T210638Z
LAST-MODIFIED:20220829T210638Z
UID:10644-1667980800-1668009600@studenttherapy.com
SUMMARY:LIVE WEBINAR Certification Course: The Ultimate Grief Treatment Toolbox: Over 60 Interventions to Promote Healing & Hope Among Grieving Children\, Adolescents & Adults - Live Webinar
DESCRIPTION:Grieving clients have some of the most heartbreaking stories that we see as clinicians. Your client’s world has been toppled following the loss of a loved one\, and in addition to missing that person\, your client is now questioning what they know about themselves and the world. Paralyzing grief has made even the simplest tasks difficult for them\, and you’re overwhelmed because nothing that you do seems to help. \nJoin Dr. Erica Sirrine\, Ph.D.\, LCSW\, FT\, as she walks you through over 60 interventions that you can use to help your grieving clients find hope and heal. Drawing on her expertise as a bereavement counselor and educator\, Dr. Sirrine blends remarkable case studies with creative intervention strategies for an engaging and unforgettable workshop that will arm you with the skills you need to be an effective therapist for grieving clients. \nWhether your client is experiencing feelings of premature grief due to the anticipated death of a loved one\, pain and loss following a divorce\, or feelings of disbelief and shock following a traumatic death\, this workshop will prepare you to skillfully intervene. \nAttend this live webinar and discover: \n\nOver 60 interventions to help clients mourn\, reconcile their losses & discover hope\nAssessment & treatment techniques for children\, adolescents & adults\nSession topics & treatment approaches for individuals\, groups & families\nStrategies to treat clients dealing with anticipatory grief\nTechniques & ideas for facilitating bereavement groups & grief camps\n\nBest of all\, upon completion of this live training\, you’ll be eligible to become a Certified Grief Informed Professional (CGP) through Evergreen Certifications. Certification lets colleagues\, employers\, and clients know that you’ve invested the extra time and effort necessary to understand the complexities of grief counselling. Professional standards apply. Visit www.evergreencertifications.com/CGP for details. \nRegister today to discover the ultimate grief treatment toolbox and revolutionize your treatment of grieving clients! \n\nCERTIFICATION MADE SIMPLE! \n\nNo hidden fees – PESI pays for your application fee (a $99.99 value)!\nSimply complete this live event and the post-event evaluation included in this training\, and your application to be a Certified Grief Informed Professional through Evergreen Certifications is complete.*\n\nAttendees will receive documentation of CGP designation from Evergreen Certifications 4 to 6 weeks following the program. \n*Professional standards apply. Visit www.evergreencertifications.com/CGP for professional requirements.
URL:https://studenttherapy.com/continuing-education/live-webinar-certification-course-the-ultimate-grief-treatment-toolbox-over-60-interventions-to-promote-healing-hope-among-grieving-children-adolescents-adults-live-webinar/
END:VEVENT
END:VCALENDAR