BEGIN:VCALENDAR
VERSION:2.0
PRODID:-//STARS - Student Therapy and Resource Services - ECPv6.15.20//NONSGML v1.0//EN
CALSCALE:GREGORIAN
METHOD:PUBLISH
X-WR-CALNAME:STARS - Student Therapy and Resource Services
X-ORIGINAL-URL:https://studenttherapy.com
X-WR-CALDESC:Events for STARS - Student Therapy and Resource Services
REFRESH-INTERVAL;VALUE=DURATION:PT1H
X-Robots-Tag:noindex
X-PUBLISHED-TTL:PT1H
BEGIN:VTIMEZONE
TZID:America/Phoenix
BEGIN:STANDARD
TZOFFSETFROM:-0700
TZOFFSETTO:-0700
TZNAME:MST
DTSTART:20210101T000000
END:STANDARD
END:VTIMEZONE
BEGIN:VEVENT
DTSTART;TZID=America/Phoenix:20221101T090000
DTEND;TZID=America/Phoenix:20221101T100000
DTSTAMP:20260419T181751
CREATED:20221025T214706Z
LAST-MODIFIED:20221025T214706Z
UID:10859-1667293200-1667296800@studenttherapy.com
SUMMARY:Mindfulness And Emotional Intelligence - Live Webinar
DESCRIPTION:Mindfulness can be used in personal and work settings to re-center the body and mind from anxiety and stress into calm. Mindfulness action builds upon one’s emotional intelligence and allows focused\, productive responses to situations beyond one’s control. The practice of learning to be present and non-judgmental can be life-changing.
URL:https://studenttherapy.com/continuing-education/mindfulness-and-emotional-intelligence-live-webinar/
END:VEVENT
END:VCALENDAR