BEGIN:VCALENDAR
VERSION:2.0
PRODID:-//STARS - Student Therapy and Resource Services - ECPv6.15.20//NONSGML v1.0//EN
CALSCALE:GREGORIAN
METHOD:PUBLISH
X-WR-CALNAME:STARS - Student Therapy and Resource Services
X-ORIGINAL-URL:https://studenttherapy.com
X-WR-CALDESC:Events for STARS - Student Therapy and Resource Services
REFRESH-INTERVAL;VALUE=DURATION:PT1H
X-Robots-Tag:noindex
X-PUBLISHED-TTL:PT1H
BEGIN:VTIMEZONE
TZID:America/Phoenix
BEGIN:STANDARD
TZOFFSETFROM:-0700
TZOFFSETTO:-0700
TZNAME:MST
DTSTART:20210101T000000
END:STANDARD
END:VTIMEZONE
BEGIN:VEVENT
DTSTART;TZID=America/Phoenix:20221025T083000
DTEND;TZID=America/Phoenix:20221025T153000
DTSTAMP:20260419T195519
CREATED:20220920T225255Z
LAST-MODIFIED:20220920T225255Z
UID:10751-1666686600-1666711800@studenttherapy.com
SUMMARY:Assistive Technology Integration for All Students - Live Internal PD Opportunity
DESCRIPTION:Greetings\, \nThe Assistive Technology (AT) team is excited to announce the 2022–23 National Presenter Series with Kelli Suding\, MEd. This workshop is designed for special educators and related service providers. \n“Assistive Technology Integration for All Students” \nDate: Tuesday\, October 25\, 2022 \nTime: 8:30 a.m.−3:30 p.m. \nFee: $17 (Lunch only) \nWhere: Laveen Elementary School District \nAddress: 5001 W Dobbins Road\, Laveen\, AZ 85339 \nAbout Kelli Suding \nKelli has a background in general education and special education classrooms. She holds a master’s degree in Learning and Technology with teaching licensing in both general and special education. Kelli has keynote\, national\, state\, and local presentation and training experience. She has a strong understanding of and ability to connect theory to practice. Her instructional experience has been with students requiring mild\, moderate\, and intense intervention. Kelli’s specializations include Universal Design for Learning\, Autism\, Accessible Educational Materials & Assistive Technology\, Google Chrome Accessibility & Integration\, and Specific Learning Disabilities. \n  \nWorkshop Description: \nAssistive Technology Integration for All Students \nCreating our classroom instruction with learner variability in the forefront will allow us to be mindful in meeting the needs of all of our students. Oftentimes\, the use of assistive technology is the appropriate accommodation to meet those needs. Statements such as “That’s cheating. They need to do that by themselves\,” are often comments aligned with the use of appropriate accommodations of accessible educational materials (AEM) and assistive technology (AT) for students with specific disabilities. But how can we promote a culture of Universal Design for Learning (UDL) and at the same time step outside of our “No\, it’s not cheating\,” echo chamber to have meaningful conversations with educators who may see AT accommodations as a crutch? \n  \nThis workshop will explore ways to debunk the mindset of “it’s cheating” through personal stories\, understanding learning disabilities\, short simulations\, discussion of the different skill sets of reading\, and the “what” of accessible educational materials (AEM) and most importantly the “why.” Attendees will learn about and have access to free/low-cost simple AT tools for Mac\, PC\, iOS\, and Chrome extensions to turn classroom worksheets and documents into accessible formats\, instruction for independent student access\, and other assistive technology options. \nIf you have questions regarding this training\, please email our AT inbox.
URL:https://studenttherapy.com/continuing-education/assistive-technology-integration-for-all-students-live-internal-pd-opportunity/
END:VEVENT
END:VCALENDAR