BEGIN:VCALENDAR
VERSION:2.0
PRODID:-//STARS - Student Therapy and Resource Services - ECPv6.15.20//NONSGML v1.0//EN
CALSCALE:GREGORIAN
METHOD:PUBLISH
X-ORIGINAL-URL:https://studenttherapy.com
X-WR-CALDESC:Events for STARS - Student Therapy and Resource Services
REFRESH-INTERVAL;VALUE=DURATION:PT1H
X-Robots-Tag:noindex
X-PUBLISHED-TTL:PT1H
BEGIN:VTIMEZONE
TZID:America/Phoenix
BEGIN:STANDARD
TZOFFSETFROM:-0700
TZOFFSETTO:-0700
TZNAME:MST
DTSTART:20210101T000000
END:STANDARD
END:VTIMEZONE
BEGIN:VEVENT
DTSTART;TZID=America/Phoenix:20221020T120000
DTEND;TZID=America/Phoenix:20221020T130000
DTSTAMP:20260419T195621
CREATED:20220906T170656Z
LAST-MODIFIED:20220906T170656Z
UID:10682-1666267200-1666270800@studenttherapy.com
SUMMARY:Mindfulness And Self-Regulation\, A Perfect Combo - Live Webinar
DESCRIPTION:Regardless of age\, self-regulation challenges can affect a student’s ability to perform optimally. We can teach students some simple mindfulness techniques based on Polyvagal Theory to help them respond\, versus react to day-to-day challenges. Let’s increase self-awareness by teaching what signals the body provides before dysregulation. No mats\, bells\, or chants are needed!
URL:https://studenttherapy.com/continuing-education/mindfulness-and-self-regulation-a-perfect-combo-live-webinar/
END:VEVENT
END:VCALENDAR