BEGIN:VCALENDAR
VERSION:2.0
PRODID:-//STARS - Student Therapy and Resource Services - ECPv6.15.20//NONSGML v1.0//EN
CALSCALE:GREGORIAN
METHOD:PUBLISH
X-WR-CALNAME:STARS - Student Therapy and Resource Services
X-ORIGINAL-URL:https://studenttherapy.com
X-WR-CALDESC:Events for STARS - Student Therapy and Resource Services
REFRESH-INTERVAL;VALUE=DURATION:PT1H
X-Robots-Tag:noindex
X-PUBLISHED-TTL:PT1H
BEGIN:VTIMEZONE
TZID:America/Phoenix
BEGIN:STANDARD
TZOFFSETFROM:-0700
TZOFFSETTO:-0700
TZNAME:MST
DTSTART:20210101T000000
END:STANDARD
END:VTIMEZONE
BEGIN:VEVENT
DTSTART;TZID=America/Phoenix:20221005T150000
DTEND;TZID=America/Phoenix:20221005T170000
DTSTAMP:20260419T195520
CREATED:20220913T213730Z
LAST-MODIFIED:20220913T213730Z
UID:10706-1664982000-1664989200@studenttherapy.com
SUMMARY:Improving Balance for Children with Periventricular Leukomalacia (PVL) - Live Webinar
DESCRIPTION:Highlights\n\nConfidently differentially diagnose specific interventions for patients with Periventricular Leukomalacia (PVL)\nStrategies to improve the postural control needed for handwriting\, self-care\, and mobility
URL:https://studenttherapy.com/continuing-education/improving-balance-for-children-with-periventricular-leukomalacia-pvl-live-webinar/
END:VEVENT
END:VCALENDAR