BEGIN:VCALENDAR
VERSION:2.0
PRODID:-//STARS - Student Therapy and Resource Services - ECPv6.15.20//NONSGML v1.0//EN
CALSCALE:GREGORIAN
METHOD:PUBLISH
X-WR-CALNAME:STARS - Student Therapy and Resource Services
X-ORIGINAL-URL:https://studenttherapy.com
X-WR-CALDESC:Events for STARS - Student Therapy and Resource Services
REFRESH-INTERVAL;VALUE=DURATION:PT1H
X-Robots-Tag:noindex
X-PUBLISHED-TTL:PT1H
BEGIN:VTIMEZONE
TZID:America/Phoenix
BEGIN:STANDARD
TZOFFSETFROM:-0700
TZOFFSETTO:-0700
TZNAME:MST
DTSTART:20210101T000000
END:STANDARD
END:VTIMEZONE
BEGIN:VEVENT
DTSTART;TZID=America/Phoenix:20220929T120000
DTEND;TZID=America/Phoenix:20220929T130000
DTSTAMP:20260419T195515
CREATED:20220906T171523Z
LAST-MODIFIED:20220906T171523Z
UID:10684-1664452800-1664456400@studenttherapy.com
SUMMARY:Client-Centered Occupational Therapy Pediatric Upper Extremity Treatment To Obtain Outcomes - Live Webinar
DESCRIPTION:Principles of client-centered care for the pediatric upper extremity patient\, considering both the child and their parent\, will be discussed in this course. It will discuss how to best involve the family/caregiver in establishing treatment goals and activities with the knowledge of the OT guiding the process.
URL:https://studenttherapy.com/continuing-education/client-centered-occupational-therapy-pediatric-upper-extremity-treatment-to-obtain-outcomes-live-webinar/
END:VEVENT
END:VCALENDAR