BEGIN:VCALENDAR
VERSION:2.0
PRODID:-//STARS - Student Therapy and Resource Services - ECPv6.15.20//NONSGML v1.0//EN
CALSCALE:GREGORIAN
METHOD:PUBLISH
X-WR-CALNAME:STARS - Student Therapy and Resource Services
X-ORIGINAL-URL:https://studenttherapy.com
X-WR-CALDESC:Events for STARS - Student Therapy and Resource Services
REFRESH-INTERVAL;VALUE=DURATION:PT1H
X-Robots-Tag:noindex
X-PUBLISHED-TTL:PT1H
BEGIN:VTIMEZONE
TZID:America/Phoenix
BEGIN:STANDARD
TZOFFSETFROM:-0700
TZOFFSETTO:-0700
TZNAME:MST
DTSTART:20210101T000000
END:STANDARD
END:VTIMEZONE
BEGIN:VEVENT
DTSTART;TZID=America/Phoenix:20220927T140000
DTEND;TZID=America/Phoenix:20220927T160000
DTSTAMP:20260419T195624
CREATED:20220826T181249Z
LAST-MODIFIED:20220826T181249Z
UID:10575-1664287200-1664294400@studenttherapy.com
SUMMARY:Counseling in the Allied Health Profession - Webinar
DESCRIPTION:Many practicing speech-language pathologists (SLP) find themselves utilizing counseling skills with their patients\, with little to no formal training. It is very important to treat the whole person\, including supporting their emotional and mental health. Although the area of counseling can be recognized as a scope of practice\, many professionals do not feel adequately equipped to serve their clients in this arena. Understanding counseling models and qualities of an effective counselor can assist practitioners to have more effective therapy sessions. \nThis course will provide participants with a better understanding of improving upon counseling as it relates to the allied health profession. Participants will review descriptions of several counseling models and leave this course with a better understanding of how to identify and implement three counseling techniques/skills. \nHighlights\n\nExpand and improve knowledge of counseling as it relates to speech language pathology\nConfidently improve upon your counseling skills in the clinical setting
URL:https://studenttherapy.com/continuing-education/counseling-in-the-allied-health-profession-webinar/
END:VEVENT
END:VCALENDAR