BEGIN:VCALENDAR
VERSION:2.0
PRODID:-//STARS - Student Therapy and Resource Services - ECPv6.15.20//NONSGML v1.0//EN
CALSCALE:GREGORIAN
METHOD:PUBLISH
X-ORIGINAL-URL:https://studenttherapy.com
X-WR-CALDESC:Events for STARS - Student Therapy and Resource Services
REFRESH-INTERVAL;VALUE=DURATION:PT1H
X-Robots-Tag:noindex
X-PUBLISHED-TTL:PT1H
BEGIN:VTIMEZONE
TZID:America/Phoenix
BEGIN:STANDARD
TZOFFSETFROM:-0700
TZOFFSETTO:-0700
TZNAME:MST
DTSTART:20210101T000000
END:STANDARD
END:VTIMEZONE
BEGIN:VEVENT
DTSTART;TZID=America/Phoenix:20220801T120000
DTEND;TZID=America/Phoenix:20220801T140000
DTSTAMP:20260420T001429
CREATED:20220613T180420Z
LAST-MODIFIED:20220613T180420Z
UID:10236-1659355200-1659362400@studenttherapy.com
SUMMARY:Hippotherapy - Live Webinar
DESCRIPTION:Course Highlights\nHippotherapy \n\nUnderstand how equine movement is utilized to improve outcomes\nIdentify the diagnoses that benefit most from this intervention\nLearn how equine movement directly impacts essential human organ systems\nIntegrate your discipline-specific knowledge with this unique treatment strategy
URL:https://studenttherapy.com/continuing-education/hippotherapy-live-webinar/
END:VEVENT
END:VCALENDAR